BEGIN:VCALENDAR
PRODID:NingEventWidget-v1
VERSION:2.0
METHOD:PUBLISH
BEGIN:VTIMEZONE
TZID:Pacific/Midway
X-LIC-LOCATION:Pacific/Midway
BEGIN:STANDARD
TZOFFSETFROM:-1100
TZOFFSETTO:-1100
TZNAME:SST
DTSTART:19700101T000000
END:STANDARD
END:VTIMEZONE
BEGIN:VEVENT
UID:5072275:Event:1062293
DTSTAMP:20260423T213221Z
SUMMARY:Fall Jefferson Car Show and Auto Swap Meet -Jefferson, WI
DESCRIPTION:\r\nThe Madison Classic's Fall Jefferson Car Show and Auto
  Swap Meet is one of the largest car shows in the Midwest! For the aut
 o enthusiasts this swapmeet boasts thousands of car parts and car acce
 ssory vendors making it a great place to buy or sell those hard to fin
 d car parts. For those looking to buy or sell cars, the Cars for Sale 
 Corral is full of 100's of cars of all makes and models! You are sure 
 find great bargains on awesome cars, car parts, and car accessories at
  the Fall Jefferson Swapmeet and Car Show! Fall Jefferson Swapmeet & 
 Car Show Statistics•Fall Jefferson swapmeet and car show is set on a
  whopping 99 acres!•Largest swap meet in the Midwest!•Over 20,000 
 car show spectators!•Over 3,100 car part vending spaces!•100's of 
 vehicles for sale in the Cars for Sale Corral!•100's show cars!\n\nF
 or more information visit https://www.southeastwheelsevents.com/events
 /fall-jefferson-car-show-and-auto-swap-meet-jefferson-wi
DTSTART;TZID=Pacific/Midway:20170922T000000
DTEND;TZID=Pacific/Midway:20170924T235900
CATEGORIES:auction, swap, meet, car, show
LOCATION:Jefferson County Fairgrounds
WEBSITE:http://www.MadsionClassics.com
URL:http://www.MadsionClassics.com
CONTACT:778-244-8416
ORGANIZER:Madison Classics
ATTACH;FMTTYPE="image/jpeg":http://storage.ning.com/topology/rest/1.0/
 file/get/967750144?profile=original
ATTENDEE;ROLE=REQ-PARTICIPANT;PARTSTAT=ACCEPTED;RSVP=TRUE;CN="Chuck Aa
 ron":https://www.southeastwheelsevents.com/profile/ChuckAaron886
END:VEVENT
END:VCALENDAR
