BEGIN:VCALENDAR
PRODID:NingEventWidget-v1
VERSION:2.0
METHOD:PUBLISH
BEGIN:VTIMEZONE
TZID:Pacific/Midway
X-LIC-LOCATION:Pacific/Midway
BEGIN:STANDARD
TZOFFSETFROM:-1100
TZOFFSETTO:-1100
TZNAME:SST
DTSTART:19700101T000000
END:STANDARD
END:VTIMEZONE
BEGIN:VEVENT
UID:5072275:Event:502678
DTSTAMP:20260420T113226Z
SUMMARY:FALL RUN 3 Car & Truck Show -Chatsworth, GA
DESCRIPTION:THE 3RD ANNUAL FALL RUN CAR & TRUCK SHOW WILL BE SATURDAY,
  OCTOBER 20TH, 2012 AT TRACTOR SUPPLY IN CHATSWORTH, GA. 9:00 A.M. TO 
 3:00 P.M. THEY WILL BE TOP 50 AWARDS, PLUS, SPECIALTY AWARDS, PEOPLE'S
  CHOICE, GOODY BAGS,DOOR PRIZES, MUSIC, McBRIDE'S SMOKEY-BUTT BBQ & MO
 RE. HOSTED BY: NEXT LEVEL CAR SHOWS. FOR MORE INFORMATION EMAIL ME AT 
 NEXTLEVELCARSHOWS@YAHOO.COM, OR CONTACT ME HERE ON FACEBOOK.\n\nFor mo
 re information visit https://www.southeastwheelsevents.com/events/fall
 -run-3-car-truck-show
DTSTART;TZID=Pacific/Midway:20121020T090000
DTEND;TZID=Pacific/Midway:20121020T150000
CATEGORIES:car, show
LOCATION:Tractor Supply
WEBSITE:
URL:
CONTACT:706-537-3191
ORGANIZER;CN="Frank Davis":https://www.southeastwheelsevents.com/profi
 le/FrankDavis
ATTACH;FMTTYPE="image/jpeg":http://storage.ning.com/topology/rest/1.0/
 file/get/967615244?profile=original
ATTENDEE;ROLE=REQ-PARTICIPANT;PARTSTAT=ACCEPTED;RSVP=TRUE;CN="Frank Da
 vis":https://www.southeastwheelsevents.com/profile/FrankDavis
END:VEVENT
END:VCALENDAR
