BEGIN:VCALENDAR
PRODID:NingEventWidget-v1
VERSION:2.0
METHOD:PUBLISH
BEGIN:VTIMEZONE
TZID:Pacific/Midway
X-LIC-LOCATION:Pacific/Midway
BEGIN:STANDARD
TZOFFSETFROM:-1100
TZOFFSETTO:-1100
TZNAME:SST
DTSTART:19700101T000000
END:STANDARD
END:VTIMEZONE
BEGIN:VEVENT
UID:5072275:Event:687158
DTSTAMP:20260422T075013Z
SUMMARY:Fall Run V Car & Truck Show -Chatsworth, GA
DESCRIPTION:Top 50 Awards. Plus, Specialties. All Cars, Trucks & Motor
 cycles Welcomed. Costume Contest for the Kids with Top 5 Awards. They 
 will be Goody Bags, Door Prizes, 50/50 Drawing, Music, BBQ\nShow Car E
 ntry is $10.00. Everyone Welcomed !!\n\nFor more information visit htt
 ps://www.southeastwheelsevents.com/events/fall-run-4-car-truck-show
DTSTART;TZID=Pacific/Midway:20141011T090000
DTEND;TZID=Pacific/Midway:20141011T150000
CATEGORIES:car, show
LOCATION:Tractor Supply
WEBSITE:
URL:
CONTACT:Frank Davis 706-537-3191
ORGANIZER:Fall Run
ATTACH;FMTTYPE="image/jpeg":http://storage.ning.com/topology/rest/1.0/
 file/get/967646006?profile=original
ATTENDEE;ROLE=REQ-PARTICIPANT;PARTSTAT=ACCEPTED;RSVP=TRUE;CN="Frank Da
 vis":https://www.southeastwheelsevents.com/profile/FrankDavis
ATTENDEE;ROLE=REQ-PARTICIPANT;PARTSTAT=TENTATIVE;RSVP=TRUE;CN="Chuck A
 aron":https://www.southeastwheelsevents.com/profile/ChuckAaron
ATTENDEE;ROLE=REQ-PARTICIPANT;PARTSTAT=TENTATIVE;RSVP=TRUE;CN="pat cla
 rke":https://www.southeastwheelsevents.com/profile/patclarke
ATTENDEE;ROLE=REQ-PARTICIPANT;PARTSTAT=TENTATIVE;RSVP=TRUE;CN="Jack Th
 omas":https://www.southeastwheelsevents.com/profile/JackThomas
END:VEVENT
END:VCALENDAR
