BEGIN:VCALENDAR
PRODID:NingEventWidget-v1
VERSION:2.0
METHOD:PUBLISH
BEGIN:VTIMEZONE
TZID:Pacific/Midway
X-LIC-LOCATION:Pacific/Midway
BEGIN:STANDARD
TZOFFSETFROM:-1100
TZOFFSETTO:-1100
TZNAME:SST
DTSTART:19700101T000000
END:STANDARD
END:VTIMEZONE
BEGIN:VEVENT
UID:5072275:Event:1101998
DTSTAMP:20260422T181616Z
SUMMARY:\"Fall Show and Go\" Nostalgia Drag Meet, Car Show - Calhoun, 
 Ga
DESCRIPTION:\"Fall Show and Go\" Nostalgia Drag Meet, Car Show and Swa
 p Meet at Paradise Drag Strip.\n\nFor more information visit https://w
 ww.southeastwheelsevents.com/events/fall-show-and-go-nostalgia-drag-me
 et-car-show-calhoun-ga
DTSTART;TZID=Pacific/Midway:20181006T070000
DTEND;TZID=Pacific/Midway:20181006T150000
CATEGORIES:car, show, cruise, in
LOCATION:Paradise Drag Strip,
WEBSITE:https://www.google.co.in/maps/place/Paradise+Drag+Strip/@34.53
 65544,-84.9289578,17z/data=!3m1!4b1!4m5!3m4!1s0x885ffd77c978d801:0x72d
 81aa30d645235!8m2!3d34.5365544!4d-84.9267691
URL:https://www.google.co.in/maps/place/Paradise+Drag+Strip/@34.536554
 4,-84.9289578,17z/data=!3m1!4b1!4m5!3m4!1s0x885ffd77c978d801:0x72d81aa
 30d645235!8m2!3d34.5365544!4d-84.9267691
CONTACT:(770) 608-0405. or (706)934-3437
ORGANIZER:B. B. Brown
ATTACH;FMTTYPE="image/jpeg":http://storage.ning.com/topology/rest/1.0/
 file/get/967799340?profile=original
ATTENDEE;ROLE=REQ-PARTICIPANT;PARTSTAT=ACCEPTED;RSVP=TRUE;CN="Anthony 
 Hopkins":https://www.southeastwheelsevents.com/profile/AnthonyHopkins
END:VEVENT
END:VCALENDAR
