BEGIN:VCALENDAR
PRODID:NingEventWidget-v1
VERSION:2.0
METHOD:PUBLISH
BEGIN:VTIMEZONE
TZID:Pacific/Midway
X-LIC-LOCATION:Pacific/Midway
BEGIN:STANDARD
TZOFFSETFROM:-1100
TZOFFSETTO:-1100
TZNAME:SST
DTSTART:19700101T000000
END:STANDARD
END:VTIMEZONE
BEGIN:VEVENT
UID:5072275:Event:483311
DTSTAMP:20260423T050918Z
SUMMARY:Family Fun In The Sun -Villa Rica, GA
DESCRIPTION:Registration will begin at 10am until 2pm with awards star
 ting at 5pm entry fee is $20 day of the show.For any more info on the 
 show or vendor spots   call James at (770)8410767\n\n\nFor more infor
 mation visit https://www.southeastwheelsevents.com/events/family-fun-i
 n-the-sun
DTSTART;TZID=Pacific/Midway:20120901T100000
DTEND;TZID=Pacific/Midway:20120901T170000
CATEGORIES:carshow
LOCATION:villa rica v-plex (civic center), , ,,
WEBSITE:http://www.bigjamesevents.com
URL:http://www.bigjamesevents.com
CONTACT:(770)841-0767
ORGANIZER;CN="james garvin":https://www.southeastwheelsevents.com/prof
 ile/jamesgarvin
ATTACH;FMTTYPE="image/jpeg":
ATTENDEE;ROLE=REQ-PARTICIPANT;PARTSTAT=ACCEPTED;RSVP=TRUE;CN="Don Grin
 er":https://www.southeastwheelsevents.com/profile/DonGriner
ATTENDEE;ROLE=REQ-PARTICIPANT;PARTSTAT=ACCEPTED;RSVP=TRUE;CN="james ga
 rvin":https://www.southeastwheelsevents.com/profile/jamesgarvin
END:VEVENT
END:VCALENDAR
