BEGIN:VCALENDAR
PRODID:NingEventWidget-v1
VERSION:2.0
METHOD:PUBLISH
BEGIN:VTIMEZONE
TZID:Pacific/Midway
X-LIC-LOCATION:Pacific/Midway
BEGIN:STANDARD
TZOFFSETFROM:-1100
TZOFFSETTO:-1100
TZNAME:SST
DTSTART:19700101T000000
END:STANDARD
END:VTIMEZONE
BEGIN:VEVENT
UID:5072275:Event:857864
DTSTAMP:20260423T231850Z
SUMMARY:Fantastic Frozen Party
DESCRIPTION:The Disney movie “Frozen” is coming to the AACA Museum
 !\nChoose from one of two sessions: 3-5:30 PM OR  6-8:30 PM\nFestiv
 ities will take place on the lower level gallery of the AACA Museum wi
 th the highlight being the Sing-A-Long version of “Frozen”!  Yo
 u can also look forward to appearances by Elsa, fun snacks including
  pizza, hot dogs, cookies and beverages.We encourage you to come dress
 ed as your favorite Frozen character, and feel free to bring pillows 
 or sleeping bags to enjoy the movie – chairs will also be available.
 \n \nPricing: $15 Adults / $10 children 4-12 / Children 3 & under are
  FREE\nAdvanced ticket purchase required\n\nFor more information visit
  https://www.southeastwheelsevents.com/events/fantastic-frozen-party
DTSTART;TZID=Pacific/Midway:20150215T150000
DTEND;TZID=Pacific/Midway:20150215T210000
CATEGORIES:community
LOCATION:AACA Museum
WEBSITE:http://www.aacamuseum.org/fantastic-frozen-party/
URL:http://www.aacamuseum.org/fantastic-frozen-party/
CONTACT:7175667100
ORGANIZER;CN="AACA Museum":https://www.southeastwheelsevents.com/profi
 le/AACAMuseum
ATTACH;FMTTYPE="image/jpeg":http://storage.ning.com/topology/rest/1.0/
 file/get/967674510?profile=original
ATTENDEE;ROLE=REQ-PARTICIPANT;PARTSTAT=ACCEPTED;RSVP=TRUE;CN="AACA Mus
 eum":https://www.southeastwheelsevents.com/profile/AACAMuseum
END:VEVENT
END:VCALENDAR
