BEGIN:VCALENDAR
PRODID:NingEventWidget-v1
VERSION:2.0
METHOD:PUBLISH
BEGIN:VTIMEZONE
TZID:Pacific/Midway
X-LIC-LOCATION:Pacific/Midway
BEGIN:STANDARD
TZOFFSETFROM:-1100
TZOFFSETTO:-1100
TZNAME:SST
DTSTART:19700101T000000
END:STANDARD
END:VTIMEZONE
BEGIN:VEVENT
UID:5072275:Event:786247
DTSTAMP:20260424T134207Z
SUMMARY:Fellowship of the Hills Car & Bike Show -Blairsville, GA
DESCRIPTION:Sunday we have an awesome outreach Sunday with our Car & B
 ike show. Pastor Marty has a special message on Rebuilds and Restorati
 ons. Start making those calls to invite friends to these services.\n\n
 \nFor more information visit https://www.southeastwheelsevents.com/eve
 nts/fellowship-of-the-hills-car-bike-show-blairsville-ga
DTSTART;TZID=Pacific/Midway:20140525T093000
DTEND;TZID=Pacific/Midway:20140525T140000
CATEGORIES:car-show, bike-show
LOCATION:Fellowship of the Hills
WEBSITE:https://www.facebook.com/FOTHGA
URL:https://www.facebook.com/FOTHGA
CONTACT:706-745-0506
ORGANIZER:Fellowship of the Hills
ATTACH;FMTTYPE="image/jpeg":http://storage.ning.com/topology/rest/1.0/
 file/get/967664300?profile=original
ATTENDEE;ROLE=REQ-PARTICIPANT;PARTSTAT=ACCEPTED;RSVP=TRUE;CN="Chuck Aa
 ron":https://www.southeastwheelsevents.com/profile/ChuckAaron
END:VEVENT
END:VCALENDAR
