BEGIN:VCALENDAR
PRODID:NingEventWidget-v1
VERSION:2.0
METHOD:PUBLISH
BEGIN:VTIMEZONE
TZID:Pacific/Midway
X-LIC-LOCATION:Pacific/Midway
BEGIN:STANDARD
TZOFFSETFROM:-1100
TZOFFSETTO:-1100
TZNAME:SST
DTSTART:19700101T000000
END:STANDARD
END:VTIMEZONE
BEGIN:VEVENT
UID:5072275:Event:1227824
DTSTAMP:20260423T094929Z
SUMMARY:Fern Leaf Car Show  -Fletcher, NC
DESCRIPTION:\n\nFor more information visit https://www.southeastwheels
 events.com/events/fern-leaf-car-show-fletcher-nc
DTSTART;TZID=Pacific/Midway:20210912T130000
DTEND;TZID=Pacific/Midway:20210912T160000
CATEGORIES:car, show, club, event
LOCATION:58 Howard Gap Road
WEBSITE:https://www.wncwheels.com/calendar__of_events.html
URL:https://www.wncwheels.com/calendar__of_events.html
CONTACT:828-687-8122
ORGANIZER:WNC WHEELS
ATTACH;FMTTYPE="image/jpeg":https://storage.ning.com/topology/rest/1.0
 /file/get/9416123857?profile=original
ATTENDEE;ROLE=REQ-PARTICIPANT;PARTSTAT=ACCEPTED;RSVP=TRUE;CN="Michael 
 Thies":https://www.southeastwheelsevents.com/profile/MichaelThies
END:VEVENT
END:VCALENDAR
