BEGIN:VCALENDAR
PRODID:NingEventWidget-v1
VERSION:2.0
METHOD:PUBLISH
BEGIN:VTIMEZONE
TZID:Pacific/Midway
X-LIC-LOCATION:Pacific/Midway
BEGIN:STANDARD
TZOFFSETFROM:-1100
TZOFFSETTO:-1100
TZNAME:SST
DTSTART:19700101T000000
END:STANDARD
END:VTIMEZONE
BEGIN:VEVENT
UID:5072275:Event:1250317
DTSTAMP:20260423T114229Z
SUMMARY:Festivals of Speed -Alpharetta, GA
DESCRIPTION:\r\nFestivals of Speed\r\n\r\n\r\n\r\n\r\n\r\n\r\n\r\n\r\n
 \r\n\r\n\r\n\r\n\r\n\r\n\r\n\r\n\r\n\r\n\r\n\r\n\r\nThis exquisite mot
 orsports display showcases the world’s most exotic cars, motorcycles
  & luxury brands placed for display on the elegant boulevards at AVALO
 N. Featured will be both vintage and contemporary vehicles of all make
 s and models. Automotive designs by Lamborghini, Jaguar, Land Rover, P
 orsche, Ferrari, Rolls-Royce, Aston-Martin, Bentley, BMW, Mercedes, Mc
 Laren will all be onsite.\r\nGuests will enjoy a wide variety of culin
 ary offerings from local restaurants, fine wines & spirits, awards pre
 sentations, smooth jazz and much more. The unique setting of Avalon al
 lows for wines and cocktails purchased from the restaurants and bars t
 o be enjoyed by attendees while strolling through the entire display.\
 r\nThe show-cars will be on display up and downtown Avalon Blvd from 1
 1am to 3:00pm. Parking is easy to get by in Downtown Avalon, and admis
 sion to the event is free.\r\nIf you have an exotic, classic or muscle
  car you may want to register it for display. See the registration tab
  above or the button below for details.\r\n\r\n\r\n\r\n\r\n\r\n\r\n\r\
 n\r\n\r\n\r\n\r\n\r\n\r\n\r\n\r\n\r\n\r\n\r\nGENERAL ADMISSION TICKETS
 \r\nTime: 11:00 AM – 3:00 PM Admission: FREE – You MUST Register F
 or Your Free Tickets By Clicking The Button Below.\r\nIn Lieu of a Pai
 d Admission We Are Asking That You Consider A Donation To The Sponsore
 d local Charity On Site. Thank You In Advance!\r\nClick Here To Claim 
 Your Free Tickets\r\n\r\n\r\n\r\n\r\n\r\n\r\n\r\n\r\n\r\n\r\n\n\nFor m
 ore information visit https://www.southeastwheelsevents.com/events/fes
 tivals-of-speed-alpharetta-ga-1
DTSTART;TZID=Pacific/Midway:20241005T110000
DTEND;TZID=Pacific/Midway:20241005T150000
CATEGORIES:exotic, car, show, life-style
LOCATION:Avalon
WEBSITE:http://www.festivalsofspeed.com/
URL:http://www.festivalsofspeed.com/
CONTACT:Joe@festivalsofspeed.com
ORGANIZER:Joe Sabatini
ATTACH;FMTTYPE="image/jpeg":https://storage.ning.com/topology/rest/1.0
 /file/get/12159210054?profile=original
ATTENDEE;ROLE=REQ-PARTICIPANT;PARTSTAT=ACCEPTED;RSVP=TRUE;CN="Chuck Aa
 ron":https://www.southeastwheelsevents.com/profile/ChuckAaron886
END:VEVENT
END:VCALENDAR
