BEGIN:VCALENDAR
PRODID:NingEventWidget-v1
VERSION:2.0
METHOD:PUBLISH
BEGIN:VTIMEZONE
TZID:Pacific/Midway
X-LIC-LOCATION:Pacific/Midway
BEGIN:STANDARD
TZOFFSETFROM:-1100
TZOFFSETTO:-1100
TZNAME:SST
DTSTART:19700101T000000
END:STANDARD
END:VTIMEZONE
BEGIN:VEVENT
UID:5072275:Event:1269311
DTSTAMP:20260420T112308Z
SUMMARY:Field of Dreams Car Show. Conyers, GA.
DESCRIPTION:\r\n15th Annual Field of Dreams Car Show by the Sons of th
 e American Legion.. 8am to 3pm. Judging starts at 10am \r\n$25.00 Car
  registration.  Free admission. \r\nMonday September 1st 2025. Labor
  Day. \n\nFor more information visit https://www.southeastwheelsevent
 s.com/events/field-of-dreams-car-show-conyers-ga
DTSTART;TZID=Pacific/Midway:20250901T080000
DTEND;TZID=Pacific/Midway:20250901T150000
CATEGORIES:fundraiser, to, help, support, our, veterans
LOCATION:American Legion Post 77
WEBSITE:
URL:
CONTACT:470-367-7638 or 770-483-8216
ORGANIZER;CN="Butch Henson":https://www.southeastwheelsevents.com/prof
 ile/ButchHenson
ATTACH;FMTTYPE="image/jpeg":https://storage.ning.com/topology/rest/1.0
 /file/get/13696072885?profile=original
ATTENDEE;ROLE=REQ-PARTICIPANT;PARTSTAT=ACCEPTED;RSVP=TRUE;CN="Natasha 
 M Piper":https://www.southeastwheelsevents.com/profile/NatashaMPiper
ATTENDEE;ROLE=REQ-PARTICIPANT;PARTSTAT=ACCEPTED;RSVP=TRUE;CN="John Bak
 er":https://www.southeastwheelsevents.com/profile/JohnJBaker
ATTENDEE;ROLE=REQ-PARTICIPANT;PARTSTAT=ACCEPTED;RSVP=TRUE;CN="Butch He
 nson":https://www.southeastwheelsevents.com/profile/ButchHenson
ATTENDEE;ROLE=REQ-PARTICIPANT;PARTSTAT=TENTATIVE;RSVP=TRUE;CN="George 
 Brosan":https://www.southeastwheelsevents.com/profile/GeorgeBrosan
END:VEVENT
END:VCALENDAR
