BEGIN:VCALENDAR
PRODID:NingEventWidget-v1
VERSION:2.0
METHOD:PUBLISH
BEGIN:VTIMEZONE
TZID:Pacific/Midway
X-LIC-LOCATION:Pacific/Midway
BEGIN:STANDARD
TZOFFSETFROM:-1100
TZOFFSETTO:-1100
TZNAME:SST
DTSTART:19700101T000000
END:STANDARD
END:VTIMEZONE
BEGIN:VEVENT
UID:5072275:Event:1180199
DTSTAMP:20260424T012949Z
SUMMARY:Fight with Breast Cancer Benefit Car Show - Winder, Ga
DESCRIPTION:Fight withÂ  BreastÂ Â  CancerÂ Â  BenefitÂ Â  CarÂ  ShowÂ
  Â  at HollyÂ Â  HillsÂ  Shopping Center.\n\nFor more information visi
 t https://www.southeastwheelsevents.com/events/fight-with-breast-cance
 r-benefit-car-show-winder-ga
DTSTART;TZID=Pacific/Midway:20191116T110000
DTEND;TZID=Pacific/Midway:20191116T160000
CATEGORIES:car, show, cruise-in
LOCATION:Holly Hills Shopping Center,
WEBSITE:https://www.google.com/maps/place/Holly+Hill+Auto+Services/@33
 .9967483,-83.7373016,17z/data=!4m8!1m2!2m1!1sHolly+Hills+Shopping+Cent
 er,+Winder+Ga!3m4!1s0x88f5e789814d80a3:0xe863d4fdaa04afbb!8m2!3d33.996
 391!4d-83.735561
URL:https://www.google.com/maps/place/Holly+Hill+Auto+Services/@33.996
 7483,-83.7373016,17z/data=!4m8!1m2!2m1!1sHolly+Hills+Shopping+Center,+
 Winder+Ga!3m4!1s0x88f5e789814d80a3:0xe863d4fdaa04afbb!8m2!3d33.996391!
 4d-83.735561
CONTACT:(678) 977-1433
ORGANIZER:Kristin
ATTACH;FMTTYPE="image/jpeg":https://storage.ning.com/topology/rest/1.0
 /file/get/1158870267?profile=original
ATTENDEE;ROLE=REQ-PARTICIPANT;PARTSTAT=ACCEPTED;RSVP=TRUE;CN="Anthony 
 Hopkins":https://www.southeastwheelsevents.com/profile/AnthonyHopkins
END:VEVENT
END:VCALENDAR
