BEGIN:VCALENDAR
PRODID:NingEventWidget-v1
VERSION:2.0
METHOD:PUBLISH
BEGIN:VTIMEZONE
TZID:Pacific/Midway
X-LIC-LOCATION:Pacific/Midway
BEGIN:STANDARD
TZOFFSETFROM:-1100
TZOFFSETTO:-1100
TZNAME:SST
DTSTART:19700101T000000
END:STANDARD
END:VTIMEZONE
BEGIN:VEVENT
UID:5072275:Event:1230455
DTSTAMP:20260423T093647Z
SUMMARY:Final Friday Cruise In - Octoberish - Marietta, GA
DESCRIPTION:Come Join us in the crisp fall \"boost weather\" air for t
 he October installment of the greatest car show this side of Atlanta.\
 r\nAssuming we have enough RSVPs, it is possible that some light refre
 shments will be served on the veranda however our legal team has advis
 ed that we must see a larger number of RSVPs before that can be made o
 fficial.\r\nRules have been and always will be. Be respectful of the p
 rivate property you are visiting and the business that is hosting us. 
 If you need a deeper explanation, then your car isn't fast enough to b
 e showing off anyway\n\nFor more information visit https://www.southea
 stwheelsevents.com/events/final-friday-cruise-in-octoberish-marietta-g
 a
DTSTART;TZID=Pacific/Midway:20211105T190000
DTEND;TZID=Pacific/Midway:20211105T220000
CATEGORIES:car, show, cruise, in
LOCATION:SS Paint Correction and Protective Coatings,
WEBSITE:https://www.facebook.com/events/542059383548573/?acontext=%7B%
 22event_action_history%22%3A[%7B%22mechanism%22%3A%22group_featured_un
 it%22%2C%22surface%22%3A%22group%22%7D]%2C%22ref_notif_type%22%3Anull%
 7D
URL:https://www.facebook.com/events/542059383548573/?acontext=%7B%22ev
 ent_action_history%22%3A[%7B%22mechanism%22%3A%22group_featured_unit%2
 2%2C%22surface%22%3A%22group%22%7D]%2C%22ref_notif_type%22%3Anull%7D
CONTACT:(678) 699-1673
ORGANIZER:SS Paint Correction and Protective Coatings
ATTACH;FMTTYPE="image/jpeg":https://storage.ning.com/topology/rest/1.0
 /file/get/170460484?profile=original
ATTENDEE;ROLE=REQ-PARTICIPANT;PARTSTAT=ACCEPTED;RSVP=TRUE;CN="Chuck Aa
 ron":https://www.southeastwheelsevents.com/profile/ChuckAaron886
END:VEVENT
END:VCALENDAR
