BEGIN:VCALENDAR
PRODID:NingEventWidget-v1
VERSION:2.0
METHOD:PUBLISH
BEGIN:VTIMEZONE
TZID:Pacific/Midway
X-LIC-LOCATION:Pacific/Midway
BEGIN:STANDARD
TZOFFSETFROM:-1100
TZOFFSETTO:-1100
TZNAME:SST
DTSTART:19700101T000000
END:STANDARD
END:VTIMEZONE
BEGIN:VEVENT
UID:5072275:Event:1249367
DTSTAMP:20260425T045100Z
SUMMARY:Finally Fridays Cruise In -Laurens, SC
DESCRIPTION:That's right, guys, the Finally Fridays Cruise In  \n\nFor
  more information visit https://www.southeastwheelsevents.com/events/f
 inally-fridays-cruiswe-in-laurens-sc
DTSTART;TZID=Pacific/Midway:20230909T180000
DTEND;TZID=Pacific/Midway:20230909T210000
CATEGORIES:car, show, cruise-in, antique, "cars.", vintage, classic, c
 ars, cruise, in
LOCATION:On The Sqaure
WEBSITE:
URL:
CONTACT:Chris 864-872-1667
ORGANIZER:
ATTACH;FMTTYPE="image/jpeg":https://storage.ning.com/topology/rest/1.0
 /file/get/3998884559?profile=original
ATTENDEE;ROLE=REQ-PARTICIPANT;PARTSTAT=ACCEPTED;RSVP=TRUE;CN="Chuck Aa
 ron":https://www.southeastwheelsevents.com/profile/ChuckAaron886
END:VEVENT
END:VCALENDAR
