BEGIN:VCALENDAR
PRODID:NingEventWidget-v1
VERSION:2.0
METHOD:PUBLISH
BEGIN:VTIMEZONE
TZID:Pacific/Midway
X-LIC-LOCATION:Pacific/Midway
BEGIN:STANDARD
TZOFFSETFROM:-1100
TZOFFSETTO:-1100
TZNAME:SST
DTSTART:19700101T000000
END:STANDARD
END:VTIMEZONE
BEGIN:VEVENT
UID:5072275:Event:959142
DTSTAMP:20260420T142513Z
SUMMARY:Firestone Grand Prix of St. Petersburg
DESCRIPTION:Verizon IndyCar Series\nTheÂ Verizon IndyCar SeriesÂ is th
 e premier open-wheel racing series in the United States. It offers one
  of the most diverse and challenging schedules in motorsports with rac
 es held on ovals, permanent road courses and temporary street courses.
 \nIndy Lights presented by Cooper Tires\nIndy Lights Presented by Coop
 er TiresÂ is the top step of the Mazda Road to Indy ladder system for 
 drivers and teams striving to compete in the Verizon IndyCar Series an
 d the Indianapolis 500. Nineteen of the 33 starters in the 2014 Indian
 apolis 500 were Indy Lights graduates. The Indy Lights champion receiv
 es a three-race scholarship package which includes the Indy 500.\nProÂ
  Mazda Championship Presented by Cooper Tires\n\nTheÂ ProÂ Mazda Champ
 ionship Presented by Cooper TiresÂ is the second step on the Mazda Roa
 d to Indy,bridging the gap between the Cooper Tires USF2000 Championsh
 ip Powered by Mazda and Indy Lights Presented by Cooper Tires. The ser
 ies' champion is awarded a scholarship package from Mazda to advance t
 o Indy Lights competition the following year.Â Graduates include Marco
  Andretti, James Hinchcliffe and Graham Rahal.\nCooper Tires USF2000 C
 hampionship Powered by Mazda\nTheÂ Cooper Tires USF2000 Championship P
 owered by MazdaÂ is the first step on the Mazda Road to Indy.Â In addi
 tion to providing a vital training ground for rising stars, the series
  champion will earn a scholarship package from Mazda to advance to the
  Pro Mazda Championship Presented by Cooper Tires. Drivers who have ho
 ned their skills in the series include Indy 500 winners Dan Wheldon, S
 am Hornish Jr. and Buddy Rice.\nPirelli World Challenge Championships\
 nTheÂ Pirelli World Challenge ChampionshipsÂ is North America's top pr
 oduction car-based championship. World Challenge is separated into thr
 ee classes: GT, GTS and Touring Car.\nRobby Gordon's SPEED Energy Stad
 ium Super Trucks\nRobby Gordon's SPEED Energy Stadium Super TrucksÂ br
 ings the best of Baja together with the excitement of motocross on 4-w
 heels to venues across North America. Stadium Super Trucks are high-po
 wered off-road trucks that race side-by-side on challenging dirt and a
 sphalt tracks with challenges that include huge jumps, crossovers, who
 op sections and many tight corners.\n\n\nTaking place on the waterfron
 t street course in downtown St. Petersburg, The FirestoneÂ  Grand Prix
  of St. Petersburg is among the most respected motorsports events in N
 orth America and features a week-long festival-like atmosphere that in
 cludes the fastest racing series on the planet, celebrity athletes, li
 ve entertainment and interactive activities.\n\nBright House Speed Zon
 e\nVerizon IndyCar Series Fan Village\nBeer Gardens\nDriver Autograph 
 Sessions\nInteractive games & exhibits\nMusic\n\n\n\n\n\n*Subject to c
 hange without notice.\n\nFor more information visit https://www.southe
 astwheelsevents.com/events/firestone-grand-prix-of-st-petersburg
DTSTART;TZID=Pacific/Midway:20160311T090000
DTEND;TZID=Pacific/Midway:20160313T190000
CATEGORIES:race
LOCATION:Downtown St. Petersburg
WEBSITE:http://www.gpstpete.com/
URL:http://www.gpstpete.com/
CONTACT:727-898-4639
ORGANIZER:Firestone Grand Prix of St. Petersburg
ATTACH;FMTTYPE="image/jpeg":http://storage.ning.com/topology/rest/1.0/
 file/get/967701575?profile=original
ATTENDEE;ROLE=REQ-PARTICIPANT;PARTSTAT=ACCEPTED;RSVP=TRUE;CN="Brian Kr
 euser":https://www.southeastwheelsevents.com/profile/BrianKreuser
END:VEVENT
END:VCALENDAR
