BEGIN:VCALENDAR
PRODID:NingEventWidget-v1
VERSION:2.0
METHOD:PUBLISH
BEGIN:VTIMEZONE
TZID:Pacific/Midway
X-LIC-LOCATION:Pacific/Midway
BEGIN:STANDARD
TZOFFSETFROM:-1100
TZOFFSETTO:-1100
TZNAME:SST
DTSTART:19700101T000000
END:STANDARD
END:VTIMEZONE
BEGIN:VEVENT
UID:5072275:Event:1246783
DTSTAMP:20260423T083406Z
SUMMARY:FIRST ANNUAL CAR SHOW
DESCRIPTION:\r\n\r\n\r\n  Calling all car enthusiasts, no matter the
  type of make, model or year come register for our car show! It will b
 e in conjunction with our GA 25-8 Fallen Heroes Dice Run.Currently, w
 e have 50 spots available, and more will depend upon space of our venu
 e.All proceeds go to United Military Care. Come out and help up suppo
 rt the veteran community.To register:https://www.combatvets25-8.org/..
 ./p/car-show-registrationNo cars will be taken after August 31st. This
  is a rain or shine event and no refunds are available. \r\n\n\nFor m
 ore information visit https://www.southeastwheelsevents.com/events/fir
 st-annual-car-show
DTSTART;TZID=Pacific/Midway:20230923T090000
DTEND;TZID=Pacific/Midway:20230923T160000
CATEGORIES:charity, car, show
LOCATION:Southern Devils Harley Davidson
WEBSITE:
URL:
CONTACT:
ORGANIZER:
ATTACH;FMTTYPE="image/jpeg":https://storage.ning.com/topology/rest/1.0
 /file/get/11063795477?profile=original
ATTENDEE;ROLE=REQ-PARTICIPANT;PARTSTAT=TENTATIVE;RSVP=TRUE;CN="Jeffrey
  Rutherford":https://www.southeastwheelsevents.com/profile/JeffreyRuth
 erford866
END:VEVENT
END:VCALENDAR
