BEGIN:VCALENDAR
PRODID:NingEventWidget-v1
VERSION:2.0
METHOD:PUBLISH
BEGIN:VTIMEZONE
TZID:Pacific/Midway
X-LIC-LOCATION:Pacific/Midway
BEGIN:STANDARD
TZOFFSETFROM:-1100
TZOFFSETTO:-1100
TZNAME:SST
DTSTART:19700101T000000
END:STANDARD
END:VTIMEZONE
BEGIN:VEVENT
UID:5072275:Event:13234
DTSTAMP:20260422T161645Z
SUMMARY:Beach Boogie and BBQ Car Show  -Myrtle Beach
DESCRIPTION:\r\n\r\n\r\nBeach Boogie & BBQ\r\nSeptember 2, 2017\r\nMar
 ket Commons\r\n \r\n\r\n\r\n10:00AM - 3:00PM\r\n \r\nReg. 9:30PM - 1
 2:00PM. $20 per vehicle. All vehicles welcome.\r\n35 trophies, giveawa
 ys and 50/50.\r\nCecil @ 843-742-9802 or Sheila @ 843-215-4165\r\n \r
 \n843-742-9802\r\n \r\nCrabtree Lane\r\nMyrtle Beach, SC\r\n \r\n\r\
 n\r\n\r\n\r\n\r\n\r\n\r\n CONTACT: Greg Hill 1-843-236-9538 , Bob Walk
 er 1-843-236-3032 or Dave Epstein 1-843-902-8909\n\nFor more informati
 on visit https://www.southeastwheelsevents.com/events/first-annual-lab
 or-day-back-to
DTSTART;TZID=Pacific/Midway:20100903T080000
DTEND;TZID=Pacific/Midway:20100905T160000
CATEGORIES:car-show
LOCATION:The Myrtle Beach Mall
WEBSITE:http://www.myrtlebeachcarclub.com/events.php
URL:http://www.myrtlebeachcarclub.com/events.php
CONTACT:843-742-9802, 843-215-4165
ORGANIZER:Myrtle Beach Car CLub
ATTACH;FMTTYPE="image/jpeg":http://storage.ning.com/topology/rest/1.0/
 file/get/967570720?profile=original
ATTENDEE;ROLE=REQ-PARTICIPANT;PARTSTAT=ACCEPTED;RSVP=TRUE;CN="Michael 
 Thies":https://www.southeastwheelsevents.com/profile/MichaelThies
END:VEVENT
END:VCALENDAR
