BEGIN:VCALENDAR
PRODID:NingEventWidget-v1
VERSION:2.0
METHOD:PUBLISH
BEGIN:VTIMEZONE
TZID:Pacific/Midway
X-LIC-LOCATION:Pacific/Midway
BEGIN:STANDARD
TZOFFSETFROM:-1100
TZOFFSETTO:-1100
TZNAME:SST
DTSTART:19700101T000000
END:STANDARD
END:VTIMEZONE
BEGIN:VEVENT
UID:5072275:Event:1180233
DTSTAMP:20260419T053932Z
SUMMARY:First Christian Church Car Show - JonesBoro, Ga
DESCRIPTION:First Christian Church Car Show 2272 Walt Stephens Road\n\
 nFor more information visit https://www.southeastwheelsevents.com/even
 ts/first-christian-church-car-show-jonesboro-ga-1
DTSTART;TZID=Pacific/Midway:20191109T100000
DTEND;TZID=Pacific/Midway:20191109T140000
CATEGORIES:car, show, cruise-in
LOCATION:First Christian Church,
WEBSITE:
URL:
CONTACT:(770) 861-2000
ORGANIZER:Steve Lister
ATTACH;FMTTYPE="image/jpeg":https://storage.ning.com/topology/rest/1.0
 /file/get/3700619073?profile=original
ATTENDEE;ROLE=REQ-PARTICIPANT;PARTSTAT=ACCEPTED;RSVP=TRUE;CN="Anthony 
 Hopkins":https://www.southeastwheelsevents.com/profile/AnthonyHopkins
END:VEVENT
END:VCALENDAR
