BEGIN:VCALENDAR
PRODID:NingEventWidget-v1
VERSION:2.0
METHOD:PUBLISH
BEGIN:VTIMEZONE
TZID:Pacific/Midway
X-LIC-LOCATION:Pacific/Midway
BEGIN:STANDARD
TZOFFSETFROM:-1100
TZOFFSETTO:-1100
TZNAME:SST
DTSTART:19700101T000000
END:STANDARD
END:VTIMEZONE
BEGIN:VEVENT
UID:5072275:Event:421709
DTSTAMP:20260419T234210Z
SUMMARY:First Friday  Gadsden, AL  35901
DESCRIPTION:Join us for our next downtown merchants' celebration, Firs
 t Friday, October 7.  Classic cars begin rolling in about 4:30pm CDT 
 as Broad Street is closed to traffic.  You will find hundreds of clas
 sic cars parked in regulation spaces and in the center of Broad Street
 .  Enjoy great shopping, food and entertainment as you visit with fri
 ends and compare cars!   The summer hours are 6:00 - 9:00pm.   For i
 nformation, please call Kay or Brittany at 256.547.8696.\n\nFor more i
 nformation visit https://www.southeastwheelsevents.com/events/first-fr
 iday-gadsden-al-35901
DTSTART;TZID=Pacific/Midway:20111007T180000
DTEND;TZID=Pacific/Midway:20111007T210000
CATEGORIES:classic, cars, shopping, food, and, entertainment
LOCATION:Historic Downtown Gadsden, AL
WEBSITE:http://www.downtowngadsden.org
URL:http://www.downtowngadsden.org
CONTACT:256.547.8696
ORGANIZER;CN="Kay Moore":https://www.southeastwheelsevents.com/profile
 /KayMoore
ATTACH;FMTTYPE="image/jpeg":http://storage.ning.com/topology/rest/1.0/
 file/get/967600658?profile=original
ATTENDEE;ROLE=REQ-PARTICIPANT;PARTSTAT=ACCEPTED;RSVP=TRUE;CN="Dude Wai
 ts":https://www.southeastwheelsevents.com/profile/DudeWaits
ATTENDEE;ROLE=REQ-PARTICIPANT;PARTSTAT=ACCEPTED;RSVP=TRUE;CN="Kay Moor
 e":https://www.southeastwheelsevents.com/profile/KayMoore
END:VEVENT
END:VCALENDAR
