BEGIN:VCALENDAR
PRODID:NingEventWidget-v1
VERSION:2.0
METHOD:PUBLISH
BEGIN:VTIMEZONE
TZID:Pacific/Midway
X-LIC-LOCATION:Pacific/Midway
BEGIN:STANDARD
TZOFFSETFROM:-1100
TZOFFSETTO:-1100
TZNAME:SST
DTSTART:19700101T000000
END:STANDARD
END:VTIMEZONE
BEGIN:VEVENT
UID:5072275:Event:1043331
DTSTAMP:20260422T135916Z
SUMMARY:First Points Race
DESCRIPTION:SECA Crate Late Model, Limited Sportsman, SECA Crate Sport
 sman, Renegade, Stock 4, Extreme 4, Young Guns, Thunder Bomber\n\nFor 
 more information visit https://www.southeastwheelsevents.com/events/fi
 rst-points-race
DTSTART;TZID=Pacific/Midway:20170401T000000
DTEND;TZID=Pacific/Midway:20170401T235900
CATEGORIES:race
LOCATION:Cherokee Speedway
WEBSITE:http://www.cherokeespeedwaysc.com/
URL:http://www.cherokeespeedwaysc.com/
CONTACT:(864) 489-1969
ORGANIZER:
ATTACH;FMTTYPE="image/jpeg":http://storage.ning.com/topology/rest/1.0/
 file/get/967743705?profile=original
ATTENDEE;ROLE=REQ-PARTICIPANT;PARTSTAT=ACCEPTED;RSVP=TRUE;CN="Christop
 her Gosney":https://www.southeastwheelsevents.com/profile/ChristopherG
 osney
END:VEVENT
END:VCALENDAR
