BEGIN:VCALENDAR
PRODID:NingEventWidget-v1
VERSION:2.0
METHOD:PUBLISH
BEGIN:VTIMEZONE
TZID:Pacific/Midway
X-LIC-LOCATION:Pacific/Midway
BEGIN:STANDARD
TZOFFSETFROM:-1100
TZOFFSETTO:-1100
TZNAME:SST
DTSTART:19700101T000000
END:STANDARD
END:VTIMEZONE
BEGIN:VEVENT
UID:5072275:Event:542276
DTSTAMP:20260423T224539Z
SUMMARY:First Redeemer Church, Annual Car & Motorcycle Show -Cumming, 
 GA
DESCRIPTION:Join us for our 16th annual Car and Motorcycle Show.  Ope
 n to the public.  Hamburgers, hot dogs, drawings and door prizes! Fre
 e meal for registered entrants.   $10 donation for  car registratio
 n. Judging by visitors.\n\n\nFor more information visit https://www.so
 utheastwheelsevents.com/events/first-redeemer-s-13th-annual-car-motorc
 ycle-show
DTSTART;TZID=Pacific/Midway:20150919T150000
DTEND;TZID=Pacific/Midway:20150919T180000
CATEGORIES:car, "&", motorcycle, show
LOCATION:First Redeemer Church, Cumming, GA
WEBSITE:http://FirstRedeemer.org
URL:http://FirstRedeemer.org
CONTACT:678-513-9400
ORGANIZER:First Redeemer Church
ATTACH;FMTTYPE="image/jpeg":http://storage.ning.com/topology/rest/1.0/
 file/get/967619857?profile=original
ATTENDEE;ROLE=REQ-PARTICIPANT;PARTSTAT=ACCEPTED;RSVP=TRUE;CN="Jan Elro
 d":https://www.southeastwheelsevents.com/profile/JanElrod
ATTENDEE;ROLE=REQ-PARTICIPANT;PARTSTAT=ACCEPTED;RSVP=TRUE;CN="nancy de
 lf":https://www.southeastwheelsevents.com/profile/nancydelf
ATTENDEE;ROLE=REQ-PARTICIPANT;PARTSTAT=ACCEPTED;RSVP=TRUE;CN="GREG CHE
 EK":https://www.southeastwheelsevents.com/profile/GREGCHEEK
ATTENDEE;ROLE=REQ-PARTICIPANT;PARTSTAT=ACCEPTED;RSVP=TRUE;CN="Michael 
 Ruffalo":https://www.southeastwheelsevents.com/profile/MichaelRuffalo
ATTENDEE;ROLE=REQ-PARTICIPANT;PARTSTAT=ACCEPTED;RSVP=TRUE;CN="robert e
 ichelberger":https://www.southeastwheelsevents.com/profile/roberteiche
 lberger
ATTENDEE;ROLE=REQ-PARTICIPANT;PARTSTAT=TENTATIVE;RSVP=TRUE;CN="Rodney 
 Wallin":https://www.southeastwheelsevents.com/profile/Rodneywallin
ATTENDEE;ROLE=REQ-PARTICIPANT;PARTSTAT=TENTATIVE;RSVP=TRUE;CN="JP Brad
 y":https://www.southeastwheelsevents.com/profile/jpbrady
ATTENDEE;ROLE=REQ-PARTICIPANT;PARTSTAT=TENTATIVE;RSVP=TRUE;CN="Steve T
 anski":https://www.southeastwheelsevents.com/profile/SteveTanski
END:VEVENT
END:VCALENDAR
