BEGIN:VCALENDAR
PRODID:NingEventWidget-v1
VERSION:2.0
METHOD:PUBLISH
BEGIN:VTIMEZONE
TZID:Pacific/Midway
X-LIC-LOCATION:Pacific/Midway
BEGIN:STANDARD
TZOFFSETFROM:-1100
TZOFFSETTO:-1100
TZNAME:SST
DTSTART:19700101T000000
END:STANDARD
END:VTIMEZONE
BEGIN:VEVENT
UID:5072275:Event:1083968
DTSTAMP:20260423T165915Z
SUMMARY:Florida Automotive and Motorsports Expo (FAME) Fort Myers, FL
DESCRIPTION:Atturo Tires, Allied Portables, and Paradise Creative Grou
 p announce the Florida Automotive & Motorsports Expo May 12 & May 13, 
 2018.\nYou’re invited to kick off the automotive season at FAME - Th
 e Florida Automotive & Motorsports Expo, hosted at Top Rocker Field at
  Six Bends. The largest recreational and show vehicle expo in Southwes
 t Florida will open its 2-day family friendly run on May 12, 2018!\nTh
 e custom-built vehicle competition, sponsored by Atturo Tires, will fe
 ature show-worthy modified motorcycles, trucks, jeeps, and more compet
 ing to win awards. Explore the most popular automotive and motorsport 
 vendors, modified vehicle builds, and the unique personalities behind 
 the monster machines.\nExhibit and vendor booths from top automotive a
 ccessory brands and merchandisers will be on-site all weekend long. Aw
 ards will be presented on Sunday afternoon at 3PM.\nAdditional activit
 ies and events include: a food truck rally, Saturday night after-party
 , and a Mother’s Day brunch on Sunday morning to benefit Eva’s Clo
 set and Foundation, a Fort Myers based non-profit that supplies necess
 ities to individuals and families in need across SW Florida. Put your 
 name in the ‘hat’ to benefit Eva’s Closet - with a raffle to win
  a custom 1957 Chevrolet Suburban. Tickets are $25 each and all procee
 ds will go directly to the foundation.  Also supporting the Boys Scou
 ts of America and the Rotary Club.\nSingle-day admission is $12 and a 
 two-day event ticket is $20. Children under 12 are free.\nVIP Ticket p
 ackages are available and include 1-weekend pass, a FAME t-shirt, 4 co
 mplimentary raffle tickets, VIP bathroom facilities, swag bag, complim
 entary parking and an after party pass.\nTo purchase tickets, enter yo
 ur vehicle into the expo, become a vendor and more, please visit www.v
 isitfame.com or call 239-980-5674.\n** Schedule and events subject to 
 change**\n\nFor more information visit https://www.southeastwheelseven
 ts.com/events/florida-automotive-and-motorsports-expo-fame-fort-myers-
 fl-1
DTSTART;TZID=Pacific/Midway:20180513T100000
DTEND;TZID=Pacific/Midway:20180513T150000
CATEGORIES:car, show
LOCATION:Top Rocker Field at Six Bends, 9510 Thunder Road
WEBSITE:http://www.visitfame.com
URL:http://www.visitfame.com
CONTACT:2399805674
ORGANIZER:Paradise Creative Group
ATTACH;FMTTYPE="image/jpeg":http://storage.ning.com/topology/rest/1.0/
 file/get/967767364?profile=original
ATTENDEE;ROLE=REQ-PARTICIPANT;PARTSTAT=ACCEPTED;RSVP=TRUE;CN="Sarah Ba
 rnett":https://www.southeastwheelsevents.com/profile/SarahBarnett
END:VEVENT
END:VCALENDAR
