BEGIN:VCALENDAR
PRODID:NingEventWidget-v1
VERSION:2.0
METHOD:PUBLISH
BEGIN:VTIMEZONE
TZID:Pacific/Midway
X-LIC-LOCATION:Pacific/Midway
BEGIN:STANDARD
TZOFFSETFROM:-1100
TZOFFSETTO:-1100
TZNAME:SST
DTSTART:19700101T000000
END:STANDARD
END:VTIMEZONE
BEGIN:VEVENT
UID:5072275:Event:743112
DTSTAMP:20260422T224748Z
SUMMARY:Florida Mopar Nationals -Davie FL
DESCRIPTION:26th Florida Mopar Nationals\nMarch 09, 2014 10am to 4pm\n
 \n\n\nCar Show & Swap Meet Show open to all Mopar & AMC vehicles Wall 
 plaques with Award Level (Gold, Silver or Bronze) will be presented to
  all participants! â€¢ Goodie bags for the first 200 show participants
  â€¢ Best of Show, Dealers Choice and Participantâ€™s Choice Awards â€
 ¢ Model Car Contest â€¢ Door prizes will be awarded to participants th
 roughout the day! â€¢ Let us do the cooking for you (All profits will 
 go to the Darrell Gwynn Foundation) â€¢ Raffle drawings and 50/50 draw
 ings. (All proceeds will go to the Darrell Gwynn Foundation www.darrel
 lgwynnfoundation.org )\n  Sponsor:Â University DodgeÂ   When:Â March 0
 9, 2014Â 10am to 4pmÂ   Location:\n5455 South University Drive, Davie 
 Florida 33328\nCost:Â Free to spectators. Enter your Car in the show $
 20, Swap Meet Spaces $25.Â   To Register:Â Click here for more informa
 tionÂ or call Rollin Maycumber at 954-920-7096 orÂ e-mail us\n\nFor mo
 re information visit https://www.southeastwheelsevents.com/events/flor
 ida-mopar-nationals-davie-fl
DTSTART;TZID=Pacific/Midway:20140308T100000
DTEND;TZID=Pacific/Midway:20140308T160000
CATEGORIES:car-show
LOCATION:University Dodge
WEBSITE:
URL:
CONTACT:954-920-7096
ORGANIZER:Florida Mopar
ATTACH;FMTTYPE="image/jpeg":http://storage.ning.com/topology/rest/1.0/
 file/get/967657370?profile=original
ATTENDEE;ROLE=REQ-PARTICIPANT;PARTSTAT=ACCEPTED;RSVP=TRUE;CN="Chuck Aa
 ron":https://www.southeastwheelsevents.com/profile/ChuckAaron
END:VEVENT
END:VCALENDAR
