BEGIN:VCALENDAR
PRODID:NingEventWidget-v1
VERSION:2.0
METHOD:PUBLISH
BEGIN:VTIMEZONE
TZID:Pacific/Midway
X-LIC-LOCATION:Pacific/Midway
BEGIN:STANDARD
TZOFFSETFROM:-1100
TZOFFSETTO:-1100
TZNAME:SST
DTSTART:19700101T000000
END:STANDARD
END:VTIMEZONE
BEGIN:VEVENT
UID:5072275:Event:1157161
DTSTAMP:20260419T205216Z
SUMMARY:FOOD CITY CRUISE IN., 8530 Hixson Pike, Hixson, TN
DESCRIPTION:   \r\n\r\n\r\nJoin us on the 1st and 3rd Thursdays of t
 he month for a cruise-in at Food City in Lakesite (Dallas Bay) from 6p
 m to 9pm. All cars,trucks, and motorcycles are welcome to come hangout
  and show off your ride. Be sure to bring a chair.\r\n\r\n\r\n\r\n\r\n
 \r\n\r\n\r\n\r\n\r\n\r\n\r\n\r\nCruise-In at the Food City\r\n\r\n8530
  Hixson Pike, Hixson, TN 37343-1560, United States\r\n\r\n\r\n\r\n\r\n
 \r\n\r\n\r\n\r\n\r\n\r\n\r\n\r\n6:00 PM – 9:00 PM\r\n\r\n\r\n\r\n\r\
 n\r\n\r\n\r\n\r\n\r\n\r\n\r\n\r\n\r\n\r\n\r\n\r\n\r\n\r\n\r\n\r\n\r\n\
 r\n\r\n\r\n\r\n\n\nFor more information visit https://www.southeastwhe
 elsevents.com/events/food-city-cruise-in-8530-hixson-pike-hixson-tn-3
DTSTART;TZID=Pacific/Midway:20190919T180000
DTEND;TZID=Pacific/Midway:20190919T210000
CATEGORIES:cruise, in
LOCATION:FOOD CITY (Lakesite)
WEBSITE:
URL:
CONTACT:
ORGANIZER:
ATTACH;FMTTYPE="image/jpeg":
ATTENDEE;ROLE=REQ-PARTICIPANT;PARTSTAT=ACCEPTED;RSVP=TRUE;CN="Jeffrey 
 Rutherford":https://www.southeastwheelsevents.com/profile/JeffreyRuthe
 rford866
END:VEVENT
END:VCALENDAR
