BEGIN:VCALENDAR
PRODID:NingEventWidget-v1
VERSION:2.0
METHOD:PUBLISH
BEGIN:VTIMEZONE
TZID:Pacific/Midway
X-LIC-LOCATION:Pacific/Midway
BEGIN:STANDARD
TZOFFSETFROM:-1100
TZOFFSETTO:-1100
TZNAME:SST
DTSTART:19700101T000000
END:STANDARD
END:VTIMEZONE
BEGIN:VEVENT
UID:5072275:Event:980043
DTSTAMP:20260420T183319Z
SUMMARY:Forsyth County Sheriff’s Office Motorcycle Safety Day -Cummi
 ng, GA
DESCRIPTION:\n\nFor more information visit https://www.southeastwheels
 events.com/events/forsyth-county-sheriff-s-office-motorcycle-safety-da
 y-cumming-ga
DTSTART;TZID=Pacific/Midway:20160604T100000
DTEND;TZID=Pacific/Midway:20160604T140000
CATEGORIES:motorcycle, show, ride
LOCATION:Cumming Fair Grounds
WEBSITE:
URL:
CONTACT:motorcyclesafetyday@forsythco.com
ORGANIZER:Forsyth County Sheriff’s Office
ATTACH;FMTTYPE="image/jpeg":http://storage.ning.com/topology/rest/1.0/
 file/get/967707507?profile=original
ATTENDEE;ROLE=REQ-PARTICIPANT;PARTSTAT=ACCEPTED;RSVP=TRUE;CN="Chuck Aa
 ron":https://www.southeastwheelsevents.com/profile/ChuckAaron
END:VEVENT
END:VCALENDAR
