BEGIN:VCALENDAR
PRODID:NingEventWidget-v1
VERSION:2.0
METHOD:PUBLISH
BEGIN:VTIMEZONE
TZID:Pacific/Midway
X-LIC-LOCATION:Pacific/Midway
BEGIN:STANDARD
TZOFFSETFROM:-1100
TZOFFSETTO:-1100
TZNAME:SST
DTSTART:19700101T000000
END:STANDARD
END:VTIMEZONE
BEGIN:VEVENT
UID:5072275:Event:1060753
DTSTAMP:20260421T122520Z
SUMMARY:Founders Day &amp; Car Show, Tallulah Falls, GA
DESCRIPTION:Car show 9 - 4 PM.  Peoples Choice trophy.  Dash plaques
  to the first 20 registrants.  Goody bags.\nThere will also be BBQ, C
 ommunity Yard Sale, Local Artists, Climbing Wall, Dunking Booth, Slack
  Line, Silent Auction and MORE!\n\nFor more information visit https://
 www.southeastwheelsevents.com/events/founders-day-amp-car-show-tallula
 h-falls-ga
DTSTART;TZID=Pacific/Midway:20171007T090000
DTEND;TZID=Pacific/Midway:20171007T160000
CATEGORIES:fundraiser, for, tallulah, falls, volunteer, fire, departme
 nt
LOCATION:Main Street, Tallulah Falls, GA
WEBSITE:http://www.tallulahfallsga.gov
URL:http://www.tallulahfallsga.gov
CONTACT:706 754 6040
ORGANIZER:Patti Polk
ATTACH;FMTTYPE="image/jpeg":http://storage.ning.com/topology/rest/1.0/
 file/get/967751071?profile=original
ATTENDEE;ROLE=REQ-PARTICIPANT;PARTSTAT=ACCEPTED;RSVP=TRUE;CN="Donna Ve
 rdino":https://www.southeastwheelsevents.com/profile/DonnaVerdino
END:VEVENT
END:VCALENDAR
