BEGIN:VCALENDAR
PRODID:NingEventWidget-v1
VERSION:2.0
METHOD:PUBLISH
BEGIN:VTIMEZONE
TZID:Pacific/Midway
X-LIC-LOCATION:Pacific/Midway
BEGIN:STANDARD
TZOFFSETFROM:-1100
TZOFFSETTO:-1100
TZNAME:SST
DTSTART:19700101T000000
END:STANDARD
END:VTIMEZONE
BEGIN:VEVENT
UID:5072275:Event:1180162
DTSTAMP:20260419T054050Z
SUMMARY:Fountain of Life Car Show - Saraland, Al
DESCRIPTION:Fountain of Life Car Show, 1277 Jubilee Drive.\n\nFor more
  information visit https://www.southeastwheelsevents.com/events/founta
 in-of-life-car-show-saraland-al
DTSTART;TZID=Pacific/Midway:20191109T080000
DTEND;TZID=Pacific/Midway:20191109T150000
CATEGORIES:car, show, cruise-in
LOCATION:Fountain of Life Car Show
WEBSITE:https://www.google.com/maps/dir//1277+Jubilee+Drive,+Saraland,
 +Al/data=!4m6!4m5!1m1!4e2!1m2!1m1!1s0x889a540db6b4d24d:0x5f6ab919ee204
 48a?sa=X&amp;ved=2ahUKEwjhgYnViNnlAhVa8HMBHWc7BOgQ9RcwC3oECAwQEA
URL:https://www.google.com/maps/dir//1277+Jubilee+Drive,+Saraland,+Al/
 data=!4m6!4m5!1m1!4e2!1m2!1m1!1s0x889a540db6b4d24d:0x5f6ab919ee20448a?
 sa=X&amp;ved=2ahUKEwjhgYnViNnlAhVa8HMBHWc7BOgQ9RcwC3oECAwQEA
CONTACT:251-709-7006
ORGANIZER:Peter Alcocer
ATTACH;FMTTYPE="image/jpeg":https://storage.ning.com/topology/rest/1.0
 /file/get/3700494213?profile=original
ATTENDEE;ROLE=REQ-PARTICIPANT;PARTSTAT=ACCEPTED;RSVP=TRUE;CN="Anthony 
 Hopkins":https://www.southeastwheelsevents.com/profile/AnthonyHopkins
END:VEVENT
END:VCALENDAR
