BEGIN:VCALENDAR
PRODID:NingEventWidget-v1
VERSION:2.0
METHOD:PUBLISH
BEGIN:VTIMEZONE
TZID:Pacific/Midway
X-LIC-LOCATION:Pacific/Midway
BEGIN:STANDARD
TZOFFSETFROM:-1100
TZOFFSETTO:-1100
TZNAME:SST
DTSTART:19700101T000000
END:STANDARD
END:VTIMEZONE
BEGIN:VEVENT
UID:5072275:Event:619668
DTSTAMP:20260423T143001Z
SUMMARY:\"Just Four You!\" - Four Seasons Classic Car Cruise In !!! -A
 lpharetta, GA
DESCRIPTION:Cruise in every 3rd Sunday of the month from 8am-11am. Fre
 e coffee, music, pinkalicious breast cancer girls will have food avai
 lable. Four Cash prizes, $100, $50, Two $25 dollar prizes!!\nAll car 
 clubs welcome, room for several hundred cars. Antique mall will be ope
 n so the wives can shop, and our antique auctions start at 11am on the
  same day. Great day for the whole family.\nWe are also taking consign
 ments for our next Classic Car Auction May 19th, as well as guns, kniv
 es, military, sports, coins, and collectibles. contact Steve White 404
 -876-1048 or go to www.fsagallery.com for details, See you there!!!\n\
 nFor more information visit https://www.southeastwheelsevents.com/even
 ts/four-seasons-classic-car-cruise-in
DTSTART;TZID=Pacific/Midway:20130421T080000
DTEND;TZID=Pacific/Midway:20130421T110000
CATEGORIES:classic, car, cruise, in
LOCATION:Four Seasons Auction Gallery & Antique Mall
WEBSITE:http://www.fsagallery.com
URL:http://www.fsagallery.com
CONTACT:404-876-1048
ORGANIZER;CN="Steve White":https://www.southeastwheelsevents.com/profi
 le/SteveWhite
ATTACH;FMTTYPE="image/jpeg":http://storage.ning.com/topology/rest/1.0/
 file/get/967632787?profile=original
ATTENDEE;ROLE=REQ-PARTICIPANT;PARTSTAT=ACCEPTED;RSVP=TRUE;CN="Mike Dal
 y Sr":https://www.southeastwheelsevents.com/profile/MikeDalySr
ATTENDEE;ROLE=REQ-PARTICIPANT;PARTSTAT=ACCEPTED;RSVP=TRUE;CN="Michael 
 Thies":https://www.southeastwheelsevents.com/profile/MichaelThies
ATTENDEE;ROLE=REQ-PARTICIPANT;PARTSTAT=ACCEPTED;RSVP=TRUE;CN="Steve Wh
 ite":https://www.southeastwheelsevents.com/profile/SteveWhite
END:VEVENT
END:VCALENDAR
