BEGIN:VCALENDAR
PRODID:NingEventWidget-v1
VERSION:2.0
METHOD:PUBLISH
BEGIN:VTIMEZONE
TZID:Pacific/Midway
X-LIC-LOCATION:Pacific/Midway
BEGIN:STANDARD
TZOFFSETFROM:-1100
TZOFFSETTO:-1100
TZNAME:SST
DTSTART:19700101T000000
END:STANDARD
END:VTIMEZONE
BEGIN:VEVENT
UID:5072275:Event:1041207
DTSTAMP:20260423T125008Z
SUMMARY:Four Wheel Fury (ATVs) Street Drags
DESCRIPTION:\nTest and Tune for all vehicles\n\n\n\n\n\n\nFor more inf
 ormation visit https://www.southeastwheelsevents.com/events/four-wheel
 -fury-atvs-street-drags
DTSTART;TZID=Pacific/Midway:20170610T000000
DTEND;TZID=Pacific/Midway:20170610T235900
CATEGORIES:race
LOCATION:Rockingham Dragway
WEBSITE:http://www.rockinghamdragway.com/
URL:http://www.rockinghamdragway.com/
CONTACT:(910) 582-3400
ORGANIZER:
ATTACH;FMTTYPE="image/jpeg":http://storage.ning.com/topology/rest/1.0/
 file/get/967741757?profile=original
ATTENDEE;ROLE=REQ-PARTICIPANT;PARTSTAT=ACCEPTED;RSVP=TRUE;CN="Christop
 her Gosney":https://www.southeastwheelsevents.com/profile/ChristopherG
 osney
END:VEVENT
END:VCALENDAR
