BEGIN:VCALENDAR
PRODID:NingEventWidget-v1
VERSION:2.0
METHOD:PUBLISH
BEGIN:VTIMEZONE
TZID:Pacific/Midway
X-LIC-LOCATION:Pacific/Midway
BEGIN:STANDARD
TZOFFSETFROM:-1100
TZOFFSETTO:-1100
TZNAME:SST
DTSTART:19700101T000000
END:STANDARD
END:VTIMEZONE
BEGIN:VEVENT
UID:5072275:Event:1175703
DTSTAMP:20260424T073356Z
SUMMARY:100 Years Car Show with Concert -Franklin Springs, GA
DESCRIPTION:100 Years of Franklin Springs, Ga. Car Show with Concert\r
 \n\r\nAddress\r\nFranklin Springs Georgia\r\n2531 West Main Street\r\n
 Franklin Springs, GA 30639\r\n\r\nEvent Description\r\nCome join us to
  Celebrate 100 Years of Franklin Springs GA. on July 27 2024 from 6pm-
 9pm with a Car Show with a concert. NO ENTRY FEE! Award winning entert
 ainer Austin Irby as Elvis will be performing from 6pm- 8pm. There wil
 l be food trucks train rides waterslide and more! Car show Top 20 Awar
 ds will be presented by Cleveland Auto Parts of Royston Ga. Car Show p
 articipants need to be parked by 5:45pm. Registration for car show wil
 l start at 4pm.\n\nFor more information visit https://www.southeastwhe
 elsevents.com/events/franklin-springs-centenial-car-show
DTSTART;TZID=Pacific/Midway:20240727T170000
DTEND;TZID=Pacific/Midway:20240727T210000
CATEGORIES:car, show
LOCATION:2531 Main Street
WEBSITE:https://carstoshow.com/eventdetails.aspx?eventid=106167
URL:https://carstoshow.com/eventdetails.aspx?eventid=106167
CONTACT:706-245-6957
ORGANIZER:
ATTACH;FMTTYPE="image/jpeg":https://storage.ning.com/topology/rest/1.0
 /file/get/3435112110?profile=original
ATTENDEE;ROLE=REQ-PARTICIPANT;PARTSTAT=TENTATIVE;RSVP=TRUE;CN="Jeffrey
  Rutherford":https://www.southeastwheelsevents.com/profile/JeffreyRuth
 erford866
END:VEVENT
END:VCALENDAR
