BEGIN:VCALENDAR
PRODID:NingEventWidget-v1
VERSION:2.0
METHOD:PUBLISH
BEGIN:VTIMEZONE
TZID:Pacific/Midway
X-LIC-LOCATION:Pacific/Midway
BEGIN:STANDARD
TZOFFSETFROM:-1100
TZOFFSETTO:-1100
TZNAME:SST
DTSTART:19700101T000000
END:STANDARD
END:VTIMEZONE
BEGIN:VEVENT
UID:5072275:Event:1251736
DTSTAMP:20260425T033602Z
SUMMARY:Free Cruise in at the Loganville Kroger
DESCRIPTION:Free cruise in at the Loganville Kroger near the fuel cent
 er. Bring a chair and hang out talk have a good time. Bring what you h
 ave car ,truck ,bike what ever.\n\nFor more information visit https://
 www.southeastwheelsevents.com/events/free-cruise-in-at-the-loganville-
 kroger
DTSTART;TZID=Pacific/Midway:20230909T170000
DTEND;TZID=Pacific/Midway:20230909T210000
CATEGORIES:free, cruise, in
LOCATION:Loganville Kroger
WEBSITE:
URL:
CONTACT:4702160832
ORGANIZER;CN="John Baker":https://www.southeastwheelsevents.com/profil
 e/JohnJBaker
ATTACH;FMTTYPE="image/jpeg":https://storage.ning.com/topology/rest/1.0
 /file/get/12218459458?profile=original
ATTENDEE;ROLE=REQ-PARTICIPANT;PARTSTAT=ACCEPTED;RSVP=TRUE;CN="John Bak
 er":https://www.southeastwheelsevents.com/profile/JohnJBaker
END:VEVENT
END:VCALENDAR
