BEGIN:VCALENDAR
PRODID:NingEventWidget-v1
VERSION:2.0
METHOD:PUBLISH
BEGIN:VTIMEZONE
TZID:Pacific/Midway
X-LIC-LOCATION:Pacific/Midway
BEGIN:STANDARD
TZOFFSETFROM:-1100
TZOFFSETTO:-1100
TZNAME:SST
DTSTART:19700101T000000
END:STANDARD
END:VTIMEZONE
BEGIN:VEVENT
UID:5072275:Event:900479
DTSTAMP:20260423T142607Z
SUMMARY:Car, Motorcycle and Truck Show 2015 KMS -Lancaster, SC
DESCRIPTION:FREE events!! Car, Motorcycle and Truck Show 2015 KMS Trik
 e Drift, Exhaust & SPL Sound Off by True SPL.  Car, Motorcycle, Truck
  & 4X4 Show!!! Car and 4X4 Meet KMS SideWayz 5 years Strong. Trike Dri
 ft\nFREE\nKMS Auto Repair\n376 Lancaster By-Pass East\nLancaster SC 29
 720\nJuly 18th 7PM till 11PM\nSeptember 19th 7PM till 11PM\nSmall KMS 
 Trike Drift lot\nSPL Comp, Burn Out Comp, Top 5 Car, Truck and Bike Sh
 ow\nMore Info Kossmotorsports.com\nCall or Text Steve 803-320-3193\nVe
 ndors welcome.\n \nFREE FAMILY EVENT Car, Motorcycle and Truck Show\n
 KMS Drift Breast Cancer Fundraiser event\nHalloBash Trike-Tober Drift 
 Fest\n\"Forever Home”  Pet Adopt-A-Thon and Fundraiser Festival!!\n
 Best Dressed Pet and Owners Award,  Best Dressed Pet Award\nLet's get
  these pets a \"Forever Home\"!!!\n \nOctober 24th 2015 From  10A.M.
  to 5P.M.\n \nFREE Charity Car, Truck & Motorcycle Show & Cruise in (
 Donation $$$ Dish Fill)\nBring a dog food dish decked out to match you
 r ride and whoever gets the most cash donated into the dish at end of 
 day is our TOP DOG!!\n \nParking lot of Petsense\n1212 Hwy 9 Bypass\n
 Lancaster SC 29720\n \nVendors, Kids Jump Houses, DJ playing our Favo
 rite Songs, Lancaster Fire Dept, Animals up for Adoption, Trike Drift,
  Top 5 Car, Truck and Bike Show. Car Meet, Muddiest 4X4 vehicle award,
  KMS Pick Award, Petsense Pick Award,   \n \nPHONE: 803-320-3193 CA
 LL OR TEXT STEVE\nFREE: We are looking for Vendors, businesses, compan
 ies that want to be part of this grand event. 501C3 Charity\n \nFood 
 Sales brought to you by the Troop 82!!\nLarge KMS Trike Drift lot\n \
 nMore Info Kossmotorsports.com\nCall or Text Steve 803-320-3193\nVendo
 rs welcome.\n\nFor more information visit https://www.southeastwheelse
 vents.com/events/free-events-car-motorcycle-and-truck-show-2015-kms-tr
 ike-drift
DTSTART;TZID=Pacific/Midway:20150718T100000
DTEND;TZID=Pacific/Midway:20150718T170000
CATEGORIES:fundraiser, car-show, bike-show
LOCATION:Parking lot of Petsense
WEBSITE:http://www.kossmotorsports.com
URL:http://www.kossmotorsports.com
CONTACT:803-320-3193
ORGANIZER;CN="Tour Delux Rally":https://www.southeastwheelsevents.com/
 profile/Steve
ATTACH;FMTTYPE="image/jpeg":http://storage.ning.com/topology/rest/1.0/
 file/get/967691521?profile=original
ATTENDEE;ROLE=REQ-PARTICIPANT;PARTSTAT=ACCEPTED;RSVP=TRUE;CN="Tour Del
 ux Rally":https://www.southeastwheelsevents.com/profile/Steve
END:VEVENT
END:VCALENDAR
