BEGIN:VCALENDAR
PRODID:NingEventWidget-v1
VERSION:2.0
METHOD:PUBLISH
BEGIN:VTIMEZONE
TZID:Pacific/Midway
X-LIC-LOCATION:Pacific/Midway
BEGIN:STANDARD
TZOFFSETFROM:-1100
TZOFFSETTO:-1100
TZNAME:SST
DTSTART:19700101T000000
END:STANDARD
END:VTIMEZONE
BEGIN:VEVENT
UID:5072275:Event:1049801
DTSTAMP:20260423T125014Z
SUMMARY:Freedom Ride Poker Run to Support the USO
DESCRIPTION:The ride starts at the American Legion Riders Post, 294328
 2 Florence Road in Powder Springs. Registration begins at 8:00 am and 
 the motorcycles go out at 10:00 am. There will be entertainment and ra
 ffles.\n\nFor more information visit https://www.southeastwheelsevents
 .com/events/freedom-ride-poker-run-to-support-the-uso
DTSTART;TZID=Pacific/Midway:20170610T180000
DTEND;TZID=Pacific/Midway:20170610T190000
CATEGORIES:bikes, event, show
LOCATION:American Legion Riders Post
WEBSITE:
URL:
CONTACT:
ORGANIZER:
ATTACH;FMTTYPE="image/jpeg":http://storage.ning.com/topology/rest/1.0/
 file/get/967744911?profile=original
ATTENDEE;ROLE=REQ-PARTICIPANT;PARTSTAT=ACCEPTED;RSVP=TRUE;CN="Christop
 her Gosney":https://www.southeastwheelsevents.com/profile/ChristopherG
 osney
END:VEVENT
END:VCALENDAR
