BEGIN:VCALENDAR
PRODID:NingEventWidget-v1
VERSION:2.0
METHOD:PUBLISH
BEGIN:VTIMEZONE
TZID:Pacific/Midway
X-LIC-LOCATION:Pacific/Midway
BEGIN:STANDARD
TZOFFSETFROM:-1100
TZOFFSETTO:-1100
TZNAME:SST
DTSTART:19700101T000000
END:STANDARD
END:VTIMEZONE
BEGIN:VEVENT
UID:5072275:Event:1031001
DTSTAMP:20260424T020103Z
SUMMARY:Friday Cruise In at Biff Burger
DESCRIPTION:Friday Cruise In will be held at Biff Burger, Saint Peters
 burg. Event will start at 6.00 pm and ends at 9.00 pm. Schedule subjec
 t to change.\n\nFor more information visit https://www.southeastwheels
 events.com/events/friday-cruise-in-at-biff-burger-1
DTSTART;TZID=Pacific/Midway:20170203T180000
DTEND;TZID=Pacific/Midway:20170203T210000
CATEGORIES:cars, "clubs/shows/cruises"
LOCATION:Biff Burger And Buffy 's Bar-B-Que
WEBSITE:http://www.suncoastcorvette.com/SCA_CruiseinsAndLocals.cfm
URL:http://www.suncoastcorvette.com/SCA_CruiseinsAndLocals.cfm
CONTACT:
ORGANIZER:
ATTACH;FMTTYPE="image/jpeg":
ATTENDEE;ROLE=REQ-PARTICIPANT;PARTSTAT=ACCEPTED;RSVP=TRUE;CN="Christop
 her Gosney":https://www.southeastwheelsevents.com/profile/ChristopherG
 osney
END:VEVENT
END:VCALENDAR
