BEGIN:VCALENDAR
PRODID:NingEventWidget-v1
VERSION:2.0
METHOD:PUBLISH
BEGIN:VTIMEZONE
TZID:Pacific/Midway
X-LIC-LOCATION:Pacific/Midway
BEGIN:STANDARD
TZOFFSETFROM:-1100
TZOFFSETTO:-1100
TZNAME:SST
DTSTART:19700101T000000
END:STANDARD
END:VTIMEZONE
BEGIN:VEVENT
UID:5072275:Event:775062
DTSTAMP:20260420T105516Z
SUMMARY:Friday Night Cruise -Davie, FL
DESCRIPTION:South Florida Largest & Longest Running Cruise Night! Grea
 t Parking! Shops & Restaurants! Food & Drinks! Lots of GREAT vendors! 
 Lots of Spectators! Cars for Sale! Oldies DJ \"Scott The MusicMan' Hul
 a-hoops! Line-dances!\nEntry $5 Yearly Passes Avaialble\nNo Pets Ple
 ase! \nNo reserve parking past 7pm. No loud stereos.\n\n\nFor more in
 formation visit https://www.southeastwheelsevents.com/events/friday-ni
 ght-cruise-davie-fl-2
DTSTART;TZID=Pacific/Midway:20140502T180000
DTEND;TZID=Pacific/Midway:20140509T230000
CATEGORIES:cruise-in
LOCATION:Tower Shops behind Flanagans
WEBSITE:
URL:
CONTACT:Mike:  954-806-7822
ORGANIZER:Florida Street Rods
ATTACH;FMTTYPE="image/jpeg":http://storage.ning.com/topology/rest/1.0/
 file/get/967658066?profile=original
ATTENDEE;ROLE=REQ-PARTICIPANT;PARTSTAT=ACCEPTED;RSVP=TRUE;CN="Chuck Aa
 ron":https://www.southeastwheelsevents.com/profile/ChuckAaron
END:VEVENT
END:VCALENDAR
