BEGIN:VCALENDAR
PRODID:NingEventWidget-v1
VERSION:2.0
METHOD:PUBLISH
BEGIN:VTIMEZONE
TZID:Pacific/Midway
X-LIC-LOCATION:Pacific/Midway
BEGIN:STANDARD
TZOFFSETFROM:-1100
TZOFFSETTO:-1100
TZNAME:SST
DTSTART:19700101T000000
END:STANDARD
END:VTIMEZONE
BEGIN:VEVENT
UID:5072275:Event:726287
DTSTAMP:20260424T045815Z
SUMMARY:FRIDAY NIGHT CRUISE-IN AT THE SONIC IN LOGANVILLE, GA
DESCRIPTION:Every Friday Night--Everyone Welcome\nCars & Motorcycles -
  Ask For your free Ice Cream\n\nFor more information visit https://www
 .southeastwheelsevents.com/events/friday-night-cruise-in-at-the-sonic-
 in-loganville-ga-3
DTSTART;TZID=Pacific/Midway:20140124T160000
DTEND;TZID=Pacific/Midway:20140124T200000
CATEGORIES:cruise-in
LOCATION:SONIC
WEBSITE:
URL:
CONTACT:
ORGANIZER:Karen and Dan Stein
ATTACH;FMTTYPE="image/jpeg":http://storage.ning.com/topology/rest/1.0/
 file/get/967607211?profile=original
ATTENDEE;ROLE=REQ-PARTICIPANT;PARTSTAT=ACCEPTED;RSVP=TRUE;CN="Chuck Aa
 ron":https://www.southeastwheelsevents.com/profile/ChuckAaron
END:VEVENT
END:VCALENDAR
