BEGIN:VCALENDAR
PRODID:NingEventWidget-v1
VERSION:2.0
METHOD:PUBLISH
BEGIN:VTIMEZONE
TZID:Pacific/Midway
X-LIC-LOCATION:Pacific/Midway
BEGIN:STANDARD
TZOFFSETFROM:-1100
TZOFFSETTO:-1100
TZNAME:SST
DTSTART:19700101T000000
END:STANDARD
END:VTIMEZONE
BEGIN:VEVENT
UID:5072275:Event:891568
DTSTAMP:20260420T112154Z
SUMMARY:Friday Night Cruise In -Kingsport, TN
DESCRIPTION:\nFriday Night Cruise In\n\nDate:\n\nEvery Friday Night\n\
 n\nCost:\n\nFree!\n\n\nLocation:\n\nTrader's Village Parking Lot on St
 one Drive.\n\n\n\n\n\n\nFor more information visit https://www.southea
 stwheelsevents.com/events/friday-night-cruise-in-kingsport-tn-5
DTSTART;TZID=Pacific/Midway:20150703T180000
DTEND;TZID=Pacific/Midway:20150703T220000
CATEGORIES:cruise-in
LOCATION:Trader's Village Parking Lot
WEBSITE:http://kingsportantiqueandrodclub.com/
URL:http://kingsportantiqueandrodclub.com/
CONTACT:Dave 423-247-3124
ORGANIZER:Kingsport Antique and Rod Club
ATTACH;FMTTYPE="image/jpeg":http://storage.ning.com/topology/rest/1.0/
 file/get/967685246?profile=original
ATTENDEE;ROLE=REQ-PARTICIPANT;PARTSTAT=ACCEPTED;RSVP=TRUE;CN="Chuck Aa
 ron":https://www.southeastwheelsevents.com/profile/ChuckAaron
END:VEVENT
END:VCALENDAR
