BEGIN:VCALENDAR
PRODID:NingEventWidget-v1
VERSION:2.0
METHOD:PUBLISH
BEGIN:VTIMEZONE
TZID:Pacific/Midway
X-LIC-LOCATION:Pacific/Midway
BEGIN:STANDARD
TZOFFSETFROM:-1100
TZOFFSETTO:-1100
TZNAME:SST
DTSTART:19700101T000000
END:STANDARD
END:VTIMEZONE
BEGIN:VEVENT
UID:5072275:Event:1025838
DTSTAMP:20260421T191544Z
SUMMARY:Friday Night Cruise-In -West Palm Beach, Fl
DESCRIPTION:Friday Night Cruise-In - The Asphalt Angels Car Club Inc. 
 consists of a group of local people who formed a family oriented car c
 lub. Cruise in every Friday night at the Wellington Marketplace from 5
 :30 pm to 8:30 pm. We are a non-profit organization and we help such o
 rganizations as Christians Reaching Out to Society (C.R.O.S.), Vetsvil
 le Cease Fire House, PBSO Explorers Post, PBSO \"Shop with a Cop\" Pro
 gram, Family First Adopt-A-Family, St. Jude's and the Arthur R. Marsha
 ll Foundation. We are also a proud sponsor of the Sunshine Baseball Le
 ague of Royal Palm Beach. This is a league consisting of teams of spec
 ial needs children and adults. These are just a few of the many charit
 ies we try to help during the year.\n\nFor more information visit http
 s://www.southeastwheelsevents.com/events/friday-night-cruise-in
DTSTART;TZID=Pacific/Midway:20161216T173000
DTEND;TZID=Pacific/Midway:20161216T203000
CATEGORIES:cars, "clubs/shows/cruises"
LOCATION:Wellington Marketplace
WEBSITE:http://www.asphaltangelscarclub.net/
URL:http://www.asphaltangelscarclub.net/
CONTACT:
ORGANIZER:Asphalt Angels Car Club
ATTACH;FMTTYPE="image/jpeg":http://storage.ning.com/topology/rest/1.0/
 file/get/967721465?profile=original
ATTENDEE;ROLE=REQ-PARTICIPANT;PARTSTAT=ACCEPTED;RSVP=TRUE;CN="Chuck Aa
 ron":https://www.southeastwheelsevents.com/profile/ChuckAaron886
ATTENDEE;ROLE=REQ-PARTICIPANT;PARTSTAT=ACCEPTED;RSVP=TRUE;CN="Chris go
 sney":https://www.southeastwheelsevents.com/profile/Chrisgosney
END:VEVENT
END:VCALENDAR
