BEGIN:VCALENDAR
PRODID:NingEventWidget-v1
VERSION:2.0
METHOD:PUBLISH
BEGIN:VTIMEZONE
TZID:Pacific/Midway
X-LIC-LOCATION:Pacific/Midway
BEGIN:STANDARD
TZOFFSETFROM:-1100
TZOFFSETTO:-1100
TZNAME:SST
DTSTART:19700101T000000
END:STANDARD
END:VTIMEZONE
BEGIN:VEVENT
UID:5072275:Event:1031320
DTSTAMP:20260424T015920Z
SUMMARY:Friday Night Dinner Ride
DESCRIPTION:Friday Night Dinner Ride at Best NY Pizza, Tampa, FL. Even
 t starts at 7:00 pm. End time might change. Schedule subject to change
 .\n\nFor more information visit https://www.southeastwheelsevents.com/
 events/friday-night-dinner-ride
DTSTART;TZID=Pacific/Midway:20170203T190000
DTEND;TZID=Pacific/Midway:20170203T210000
CATEGORIES:motorcycles, "clubs/shows/cruises"
LOCATION:Best NY Pizza
WEBSITE:http://fl1a.gwrra-regiona.org/fl1a/images/Calendars/February%2
 02017%20Calendar.pdf
URL:http://fl1a.gwrra-regiona.org/fl1a/images/Calendars/February%20201
 7%20Calendar.pdf
CONTACT:
ORGANIZER:
ATTACH;FMTTYPE="image/jpeg":
ATTENDEE;ROLE=REQ-PARTICIPANT;PARTSTAT=ACCEPTED;RSVP=TRUE;CN="Christop
 her Gosney":https://www.southeastwheelsevents.com/profile/ChristopherG
 osney
END:VEVENT
END:VCALENDAR
