BEGIN:VCALENDAR
PRODID:NingEventWidget-v1
VERSION:2.0
METHOD:PUBLISH
BEGIN:VTIMEZONE
TZID:Pacific/Midway
X-LIC-LOCATION:Pacific/Midway
BEGIN:STANDARD
TZOFFSETFROM:-1100
TZOFFSETTO:-1100
TZNAME:SST
DTSTART:19700101T000000
END:STANDARD
END:VTIMEZONE
BEGIN:VEVENT
UID:5072275:Event:1086811
DTSTAMP:20260421T032630Z
SUMMARY:Friday Night Drag Racing and Show and Shine Car Show - Hampton
 , GA
DESCRIPTION:Friday Night Drag Racing and Show and Shine Car Show.\n\nF
 or more information visit https://www.southeastwheelsevents.com/events
 /friday-night-drag-racing-amp-show-and-shine-car-show-hampton-ga-1
DTSTART;TZID=Pacific/Midway:20180629T000000
DTEND;TZID=Pacific/Midway:20180629T235900
CATEGORIES:car, show
LOCATION:Atlanta Motor Speedway
WEBSITE:http://atlantamotorspeedway.com
URL:http://atlantamotorspeedway.com
CONTACT:(770) 946-3954
ORGANIZER:
ATTACH;FMTTYPE="image/jpeg":http://storage.ning.com/topology/rest/1.0/
 file/get/967775247?profile=original
ATTENDEE;ROLE=REQ-PARTICIPANT;PARTSTAT=ACCEPTED;RSVP=TRUE;CN="Anthony 
 Hopkins":https://www.southeastwheelsevents.com/profile/AnthonyHopkins
END:VEVENT
END:VCALENDAR
