BEGIN:VCALENDAR
PRODID:NingEventWidget-v1
VERSION:2.0
METHOD:PUBLISH
BEGIN:VTIMEZONE
TZID:Pacific/Midway
X-LIC-LOCATION:Pacific/Midway
BEGIN:STANDARD
TZOFFSETFROM:-1100
TZOFFSETTO:-1100
TZNAME:SST
DTSTART:19700101T000000
END:STANDARD
END:VTIMEZONE
BEGIN:VEVENT
UID:5072275:Event:666771
DTSTAMP:20260423T152913Z
SUMMARY:Thursday Night Thunder -Hampton, GA
DESCRIPTION:\r\n\r\n\r\nAtlanta's summers will heat up when Thursday T
 hunder, Atlanta Motor Speedway's weekly racing series takes the green 
 flag for the season.\r\nAll grandstands are non-smoking at Thursday Th
 under, with smoking being permitted in designated areas near the grand
 stands. \r\nThursday Thunder, an eight-week series of nine races that
  hosts Bandolero and Legends racing is one of the most affordable, exc
 iting family ac totivities in Atlanta. Every Thursday night from June 
 July, a smorgasbord of games, contests, giveaways and hot on-track rac
 ing excitement take place.\r\nTickets are just $6 for adults and $2 fo
 r children 6-11 (children under 6 are free) for each evening of fun an
 d grass-roots racing on the paved quarter-mile track at AMS, the Thund
 er Ring. Drivers as young as 8-years-old come from all over the nation
  to battle each night in eight different classes for the right to be c
 alled champions at Atlanta Motor Speedway.\r\nBut the racing is only p
 art of the fun and excitement at Atlanta Motor Speedway. On the concou
 rse, there will be weekly themes and contests, exciting intermission a
 ctivities merchandise and ticket giveaways. Group parties and children
 's birthday parties are also available during Thursday Thunder. Gates 
 open at 6 p.m., heat races start at 5:50 p.m. and feature races start 
 at 7:30 p.m. Don't miss this summer's most fun and affordable activity
 . Come see the region's up and coming drivers each Thursday night at A
 tlanta Motor Speedway. Call (770) 946-4211 for information or visit w
 ww.legendsofga.com or http://www.atlantamotorspeedway.com/.\r\nYou c
 an enjoy the excitement of sanctioned auto racing from behind the whee
 l! Thanks to US Legend Cars and Legends of Georgia, it's easy, affor
 dable and a great source of family fun. Legends Cars are 5/8 scale rep
 licas of classic coupes and sedans of the '30s that were modified into
  the fordable racing machines of NASCAR's grassroots history. But don'
 t let their size fool you - these are serious race cars powered by 120
 0cc, 4-cylinder Yamaha engines delivering 122 horsepower - more than e
 nough to give you some major league racing thrills.\r\n\r\n\n\nFor mor
 e information visit https://www.southeastwheelsevents.com/events/frida
 y-night-drags-and-show-n-shine-hampton-ga-3
DTSTART;TZID=Pacific/Midway:20180621T180000
DTEND;TZID=Pacific/Midway:20180621T230000
CATEGORIES:car, show, and, drag, racing
LOCATION:Atlanta Motor Speedway
WEBSITE:http://www.atlantamotorspeedway.com
URL:http://www.atlantamotorspeedway.com
CONTACT:770-946-3955
ORGANIZER;CN="Jennie Poteat":https://www.southeastwheelsevents.com/pro
 file/JenniePoteat
ATTACH;FMTTYPE="image/jpeg":http://storage.ning.com/topology/rest/1.0/
 file/get/967640447?profile=original
ATTENDEE;ROLE=REQ-PARTICIPANT;PARTSTAT=ACCEPTED;RSVP=TRUE;CN="Jennie P
 oteat":https://www.southeastwheelsevents.com/profile/JenniePoteat
ATTENDEE;ROLE=REQ-PARTICIPANT;PARTSTAT=ACCEPTED;RSVP=TRUE;CN="Chuck Aa
 ron":https://www.southeastwheelsevents.com/profile/ChuckAaron886
END:VEVENT
END:VCALENDAR
