BEGIN:VCALENDAR
PRODID:NingEventWidget-v1
VERSION:2.0
METHOD:PUBLISH
BEGIN:VTIMEZONE
TZID:Pacific/Midway
X-LIC-LOCATION:Pacific/Midway
BEGIN:STANDARD
TZOFFSETFROM:-1100
TZOFFSETTO:-1100
TZNAME:SST
DTSTART:19700101T000000
END:STANDARD
END:VTIMEZONE
BEGIN:VEVENT
UID:5072275:Event:756468
DTSTAMP:20260423T013559Z
SUMMARY:Friday Night Drags & Show-N-Shine -Hampton, GA
DESCRIPTION:\nStreet style drag racing with any kind of car, truck, mo
 torcycle or ATV.  No timing system!  No serious racing!  No cops!\n
 Plus, show-n-shine inside the NASCAR garage and the speedway cruise wh
 ere you can drive your show vehicle on the high banks of Atlanta Motor
  Speedway!\nIf you like cars...you will LOVE the Friday Night Drags at
  Atlanta Motor Speedway!\n\nFor more information visit https://www.sou
 theastwheelsevents.com/events/friday-night-drags-show-n-shine-27
DTSTART;TZID=Pacific/Midway:20170714T180000
DTEND;TZID=Pacific/Midway:20170714T220000
CATEGORIES:car, show, "&", drag, races
LOCATION:Atlanta Motor Speedway
WEBSITE:http://www.atlantamotorspeedway.com/events/friday-night-drags/
URL:http://www.atlantamotorspeedway.com/events/friday-night-drags/
CONTACT:770.946.3954
ORGANIZER;CN="Ted Austad":https://www.southeastwheelsevents.com/profil
 e/TedAustad
ATTACH;FMTTYPE="image/jpeg":http://storage.ning.com/topology/rest/1.0/
 file/get/967655043?profile=original
ATTENDEE;ROLE=REQ-PARTICIPANT;PARTSTAT=ACCEPTED;RSVP=TRUE;CN="Ted Aust
 ad":https://www.southeastwheelsevents.com/profile/TedAustad
END:VEVENT
END:VCALENDAR
