BEGIN:VCALENDAR
PRODID:NingEventWidget-v1
VERSION:2.0
METHOD:PUBLISH
BEGIN:VTIMEZONE
TZID:Pacific/Midway
X-LIC-LOCATION:Pacific/Midway
BEGIN:STANDARD
TZOFFSETFROM:-1100
TZOFFSETTO:-1100
TZNAME:SST
DTSTART:19700101T000000
END:STANDARD
END:VTIMEZONE
BEGIN:VEVENT
UID:5072275:Event:756472
DTSTAMP:20260423T134546Z
SUMMARY:Friday Night Drags & Show-N-Shine -Hampton, GA
DESCRIPTION:Street style drag racing with any kind of car, truck, moto
 rcycle or ATV.  No timing system!  No serious racing!  No cops!\nPl
 us, show-n-shine inside the NASCAR garage and the speedway cruise wher
 e you can drive your show vehicle on the high banks of Atlanta Motor S
 peedway!\nIf you like cars...you will LOVE the Friday Night Drags at A
 tlanta Motor Speedway!\n\nFor more information visit https://www.south
 eastwheelsevents.com/events/friday-night-drags-show-n-shine-28
DTSTART;TZID=Pacific/Midway:20170707T180000
DTEND;TZID=Pacific/Midway:20170707T230000
CATEGORIES:car, show, "&", drag, races
LOCATION:Atlanta Motor Speedway
WEBSITE:http://www.atlantamotorspeedway.com/events/drags
URL:http://www.atlantamotorspeedway.com/events/drags
CONTACT:770.946.3954
ORGANIZER;CN="Ted Austad":https://www.southeastwheelsevents.com/profil
 e/TedAustad
ATTACH;FMTTYPE="image/jpeg":http://storage.ning.com/topology/rest/1.0/
 file/get/967654536?profile=original
ATTENDEE;ROLE=REQ-PARTICIPANT;PARTSTAT=ACCEPTED;RSVP=TRUE;CN="Chuck Aa
 ron":https://www.southeastwheelsevents.com/profile/ChuckAaron886
ATTENDEE;ROLE=REQ-PARTICIPANT;PARTSTAT=ACCEPTED;RSVP=TRUE;CN="Ted Aust
 ad":https://www.southeastwheelsevents.com/profile/TedAustad
END:VEVENT
END:VCALENDAR
