BEGIN:VCALENDAR
PRODID:NingEventWidget-v1
VERSION:2.0
METHOD:PUBLISH
BEGIN:VTIMEZONE
TZID:Pacific/Midway
X-LIC-LOCATION:Pacific/Midway
BEGIN:STANDARD
TZOFFSETFROM:-1100
TZOFFSETTO:-1100
TZNAME:SST
DTSTART:19700101T000000
END:STANDARD
END:VTIMEZONE
BEGIN:VEVENT
UID:5072275:Event:131338
DTSTAMP:20260419T042420Z
SUMMARY:Friday Night Drags & Show-N-Shine -Hampton, GA
DESCRIPTION:Street Drag Racing (1/8th mile) down pit road.  No timing
  system, no starter tree, NO COPS!!!  Just like the old days when we 
 raced down county roads.   Plus, Show-N-Shine in the NASCAR Garage. 
  Speedway Cruise, Show Awards and winners are invited to come back on 
 NASCAR weekend to display cars on the frontstretch during the pre-race
  activities!   More info at www.atlantamotorspeedway.com.\n\nFor more
  information visit https://www.southeastwheelsevents.com/events/friday
 -night-drags-shownshine-472
DTSTART;TZID=Pacific/Midway:20110506T000000
DTEND;TZID=Pacific/Midway:20110506T235900
CATEGORIES:car, show, "&", drags
LOCATION:Atlanta Motor Speedway
WEBSITE:http://www.atlantamotorspeedway.com
URL:http://www.atlantamotorspeedway.com
CONTACT:770-946-3954
ORGANIZER;CN="Ted Austad":https://www.southeastwheelsevents.com/profil
 e/TedAustad
ATTACH;FMTTYPE="image/jpeg":
ATTENDEE;ROLE=REQ-PARTICIPANT;PARTSTAT=ACCEPTED;RSVP=TRUE;CN="Ted Aust
 ad":https://www.southeastwheelsevents.com/profile/TedAustad
ATTENDEE;ROLE=REQ-PARTICIPANT;PARTSTAT=ACCEPTED;RSVP=TRUE;CN="Christop
 her \"TEX\" Leonard":https://www.southeastwheelsevents.com/profile/Chr
 istopherTEXLeonard
END:VEVENT
END:VCALENDAR
