BEGIN:VCALENDAR
PRODID:NingEventWidget-v1
VERSION:2.0
METHOD:PUBLISH
BEGIN:VTIMEZONE
TZID:Pacific/Midway
X-LIC-LOCATION:Pacific/Midway
BEGIN:STANDARD
TZOFFSETFROM:-1100
TZOFFSETTO:-1100
TZNAME:SST
DTSTART:19700101T000000
END:STANDARD
END:VTIMEZONE
BEGIN:VEVENT
UID:5072275:Event:1141942
DTSTAMP:20260423T085648Z
SUMMARY:FRIDAY NIGHT LIVE
DESCRIPTION:FRIDAY NIGHT LIVE\r\n Every 3rd FRI, Mar thru OCT - Winde
 r Raceplex\r\n                      COMES ALIVE!!!!!\r\n c
 ar, truck & m/c cruise in\r\n music (DJ JEFF) \r\n       VENDORS
  (contact us)\r\n                   Watch for SPECIALS\r\n 
          BBQ - Bands - Go Cart Racing - Drift Racing\r\nDid we men
 tion VENDORS ??? Call, to reserve YOUR spot\n\nFor more information vi
 sit https://www.southeastwheelsevents.com/events/friday-night-live-3
DTSTART;TZID=Pacific/Midway:20190719T180000
DTEND;TZID=Pacific/Midway:20190719T190000
CATEGORIES:benefit, -, cruise, in
LOCATION:LANIER RACEPLEX
WEBSITE:
URL:
CONTACT:MIKE - 770-883-0160 OR \"mike@southeastwheelsevents.com\"
ORGANIZER:Mike Thiess
ATTACH;FMTTYPE="image/jpeg":
ATTENDEE;ROLE=REQ-PARTICIPANT;PARTSTAT=ACCEPTED;RSVP=TRUE;CN="Jeffrey 
 Rutherford":https://www.southeastwheelsevents.com/profile/JeffreyRuthe
 rford866
END:VEVENT
END:VCALENDAR
