BEGIN:VCALENDAR
PRODID:NingEventWidget-v1
VERSION:2.0
METHOD:PUBLISH
BEGIN:VTIMEZONE
TZID:Pacific/Midway
X-LIC-LOCATION:Pacific/Midway
BEGIN:STANDARD
TZOFFSETFROM:-1100
TZOFFSETTO:-1100
TZNAME:SST
DTSTART:19700101T000000
END:STANDARD
END:VTIMEZONE
BEGIN:VEVENT
UID:5072275:Event:1272945
DTSTAMP:20260423T232730Z
SUMMARY:Fulfill Your Mission - Volunteer for a Cause!
DESCRIPTION:\r\nVOLUNTEERS NEEDED\r\nFueling Hope Through Car Shows\r\
 nOur Mission\r\nBeyond the Ribbon is a 100% volunteer-powered charity 
 that raises funds to support families facing cancer. Through producing
  car shows, encouraging charitable sponsorships, and listing/promoting
  “wheels events” on our Events Calendar website, we bring together
  the car community to do real good! Every dollar raised goes directly 
 to families in need, no employees, no overhead.\r\nIf you love cars, c
 ommunity, and making a difference, we invite you to be part of somethi
 ng meaningful.\r\nHow You Can Help\r\nEvent & Operations\r\n\r\nCar Sh
 ow Manager Event Operations Coordinator Volunteer Coordinator\r\n\r\nS
 ponsorship & Fundraising\r\n\r\nSponsorship Development Lead Community
  Partnerships Coordinator Fundraising Outreach Ambassador\r\n\r\nMarke
 ting & Promotion\r\n\r\nDigital Promotion Coordinator Social Media Vol
 unteer.\r\nWebsite Listings Manager\r\n\r\nOn-Site Event Support\r\n\r
 \nParticipant Relations Lead Registration & Check-In Volunteer Awards 
 & Recognition Coordinator.\r\n\r\nWhy Volunteer With Us?\r\n\r\n✔ Su
 pport families battling cancer\r\n✔ Be part of the Southeast car com
 munity\r\n✔ Flexible roles — from behind-the-scenes to front-line\
 r\n✔ Use your skills for good (or learn new ones)\r\n✔ 100% volunt
 eer organization — 100% impact\r\n\r\nGet Involved\r\nWhether you ca
 n give a few hours at an event or help year-round, your time makes a d
 ifference.\r\nDonations Welcome: Click Here\n\nFor more information vi
 sit https://www.southeastwheelsevents.com/events/fullfill-your-mission
 -volunteer-fo-a-cause
DTSTART;TZID=Pacific/Midway:20260121T000000
DTEND;TZID=Pacific/Midway:20260331T235900
CATEGORIES:volunteer, recruitment, donations
LOCATION:Southeast USA
WEBSITE:https://www.paypal.com/paypalme/beyondtheribboninc
URL:https://www.paypal.com/paypalme/beyondtheribboninc
CONTACT:Bobbie, - (404) 274-2024 (Executive Director)
ORGANIZER:
ATTACH;FMTTYPE="image/jpeg":https://storage.ning.com/topology/rest/1.0
 /file/get/31065583664?profile=original
ATTENDEE;ROLE=REQ-PARTICIPANT;PARTSTAT=ACCEPTED;RSVP=TRUE;CN="Chuck Aa
 ron":https://www.southeastwheelsevents.com/profile/ChuckAaron886
END:VEVENT
END:VCALENDAR
