BEGIN:VCALENDAR
PRODID:NingEventWidget-v1
VERSION:2.0
METHOD:PUBLISH
BEGIN:VTIMEZONE
TZID:Pacific/Midway
X-LIC-LOCATION:Pacific/Midway
BEGIN:STANDARD
TZOFFSETFROM:-1100
TZOFFSETTO:-1100
TZNAME:SST
DTSTART:19700101T000000
END:STANDARD
END:VTIMEZONE
BEGIN:VEVENT
UID:5072275:Event:1086948
DTSTAMP:20260425T040717Z
SUMMARY:2018 Fun Run - ONEIDA, TN
DESCRIPTION:Fun Run\n\nFor more information visit https://www.southeas
 twheelsevents.com/events/fun-run-oneida-tn
DTSTART;TZID=Pacific/Midway:20180616T090000
DTEND;TZID=Pacific/Midway:20180616T150000
CATEGORIES:car, show
LOCATION:Oneida City Park
WEBSITE:
URL:
CONTACT:(423) 569-8234
ORGANIZER:Bill Boyatt
ATTACH;FMTTYPE="image/jpeg":http://storage.ning.com/topology/rest/1.0/
 file/get/967776838?profile=original
ATTENDEE;ROLE=REQ-PARTICIPANT;PARTSTAT=ACCEPTED;RSVP=TRUE;CN="Anthony 
 Hopkins":https://www.southeastwheelsevents.com/profile/AnthonyHopkins
END:VEVENT
END:VCALENDAR
