BEGIN:VCALENDAR
PRODID:NingEventWidget-v1
VERSION:2.0
METHOD:PUBLISH
BEGIN:VTIMEZONE
TZID:Pacific/Midway
X-LIC-LOCATION:Pacific/Midway
BEGIN:STANDARD
TZOFFSETFROM:-1100
TZOFFSETTO:-1100
TZNAME:SST
DTSTART:19700101T000000
END:STANDARD
END:VTIMEZONE
BEGIN:VEVENT
UID:5072275:Event:1239527
DTSTAMP:20260423T234943Z
SUMMARY:GA/AL Region AACA Fall Car and Truck Show -Lagrange, GA
DESCRIPTION:\n\nFor more information visit https://www.southeastwheels
 events.com/events/ga-al-region-aaca-fall-car-and-truck-show-lagrange-g
 a
DTSTART;TZID=Pacific/Midway:20221001T090000
DTEND;TZID=Pacific/Midway:20221001T140000
CATEGORIES:antique, show, cars, trucks
LOCATION:Forestry 21
WEBSITE:
URL:
CONTACT:706-333-8106
ORGANIZER:West GA AACA
ATTACH;FMTTYPE="image/jpeg":https://storage.ning.com/topology/rest/1.0
 /file/get/10828268079?profile=original
ATTENDEE;ROLE=REQ-PARTICIPANT;PARTSTAT=ACCEPTED;RSVP=TRUE;CN="Chuck Aa
 ron":https://www.southeastwheelsevents.com/profile/ChuckAaron886
END:VEVENT
END:VCALENDAR
