BEGIN:VCALENDAR
PRODID:NingEventWidget-v1
VERSION:2.0
METHOD:PUBLISH
BEGIN:VTIMEZONE
TZID:Pacific/Midway
X-LIC-LOCATION:Pacific/Midway
BEGIN:STANDARD
TZOFFSETFROM:-1100
TZOFFSETTO:-1100
TZNAME:SST
DTSTART:19700101T000000
END:STANDARD
END:VTIMEZONE
BEGIN:VEVENT
UID:5072275:Event:546374
DTSTAMP:20260420T113615Z
SUMMARY:GA Ride For The Troops -Conyers, GA
DESCRIPTION:GA Ride For The Troops\nRAIN OR SHINE! Location: Stone Mou
 ntain Harley-Davidson. $20 Donation Biker/$10 Passenger, All Makes and
  Models Welcome, Food, Vendors, Raffles, Live Band,Patriotic Program. 
 Benefits Operation Sandbox, FREE Chick-fil-a Chicken Biscuit and Starb
 ucks Coffee to FIRST 200 to register. All ACTIVE military 1/2 off regi
 stration donation with Military ID.\nwww.operationsandboxga.com\nVirgi
 nia 770-784-9155\n\nFor more information visit https://www.southeastwh
 eelsevents.com/events/ga-ride-for-the-troops-conyers-ga
DTSTART;TZID=Pacific/Midway:20121020T000000
DTEND;TZID=Pacific/Midway:20121020T235900
CATEGORIES:motorcycle-ride
LOCATION:Stone Mountain Harley-Davidson
WEBSITE:http://www.operationsandboxga.com
URL:http://www.operationsandboxga.com
CONTACT:770-784-9155
ORGANIZER:Stone Mountain HD
ATTACH;FMTTYPE="image/jpeg":http://storage.ning.com/topology/rest/1.0/
 file/get/967623624?profile=original
ATTENDEE;ROLE=REQ-PARTICIPANT;PARTSTAT=ACCEPTED;RSVP=TRUE;CN="Jack Tho
 mas":https://www.southeastwheelsevents.com/profile/JackThomas
END:VEVENT
END:VCALENDAR
