BEGIN:VCALENDAR
PRODID:NingEventWidget-v1
VERSION:2.0
METHOD:PUBLISH
BEGIN:VTIMEZONE
TZID:Pacific/Midway
X-LIC-LOCATION:Pacific/Midway
BEGIN:STANDARD
TZOFFSETFROM:-1100
TZOFFSETTO:-1100
TZNAME:SST
DTSTART:19700101T000000
END:STANDARD
END:VTIMEZONE
BEGIN:VEVENT
UID:5072275:Event:868965
DTSTAMP:20260422T181236Z
SUMMARY:Gainesville Street Rods Original Cruz-n -Gainesville, FL
DESCRIPTION:38th Annual Original Cruz-n in Gainesville Fl \r\n10am to
  4pm @ Santa Fe College off 39th ave.\r\nJudged show Open to all cars,
  trucks and motorcycles\r\nwith specialty for Mustangs, Camaros, and C
 orvettes\r\nCars $20 , Motorcycles $10\r\nTo benefit Stop Children's C
 ancer\r\ninfo 352-658-1477\n\nFor more information visit https://www.s
 outheastwheelsevents.com/events/gainesville-street-rods-original-cruz-
 n
DTSTART;TZID=Pacific/Midway:20200307T100000
DTEND;TZID=Pacific/Midway:20200307T160000
CATEGORIES:open, car, show
LOCATION:Santa Fe College
WEBSITE:http://www.gainesvillestreetrods.com
URL:http://www.gainesvillestreetrods.com
CONTACT:352-658-1477
ORGANIZER:Gainesville Street Rods
ATTACH;FMTTYPE="image/jpeg":https://storage.ning.com/topology/rest/1.0
 /file/get/4008558066?profile=original
ATTENDEE;ROLE=REQ-PARTICIPANT;PARTSTAT=ACCEPTED;RSVP=TRUE;CN="Michael 
 & Vicky Quinn Stelzleni":https://www.southeastwheelsevents.com/profile
 /MichaelVickyQuinnStelzleni
END:VEVENT
END:VCALENDAR
