BEGIN:VCALENDAR
PRODID:NingEventWidget-v1
VERSION:2.0
METHOD:PUBLISH
BEGIN:VTIMEZONE
TZID:Pacific/Midway
X-LIC-LOCATION:Pacific/Midway
BEGIN:STANDARD
TZOFFSETFROM:-1100
TZOFFSETTO:-1100
TZNAME:SST
DTSTART:19700101T000000
END:STANDARD
END:VTIMEZONE
BEGIN:VEVENT
UID:5072275:Event:997347
DTSTAMP:20260423T191356Z
SUMMARY:Galaxy Diner Cruise-In -Chamblee, GA
DESCRIPTION:Our July Toys for Tots quickly turned into \"Toys for Typh
 oons\" with a CRAZY rain storm. This is such a great cause, that we de
 cided to try it again on August 6th!\nWe will have Popular Choice Awar
 ds, Door Prizes, 50/50 Raffle, Great Music and TASTY Galaxy Diner food
 .\nOur shows are ALWAYS open to ALL Makes, Models and Years. Come join
  the fun! Spectator are welcome!\n\nFor more information visit https:/
 /www.southeastwheelsevents.com/events/galaxy-diner-cruise-in-8
DTSTART;TZID=Pacific/Midway:20160806T160000
DTEND;TZID=Pacific/Midway:20160806T190000
CATEGORIES:car, show, cruise-in, fundraiser
LOCATION:Roy's Galaxy Diner
WEBSITE:http://www.GeorgiaCoolCruisers.org
URL:http://www.GeorgiaCoolCruisers.org
CONTACT:404-732-6842
ORGANIZER;CN="Rick Ellis":https://www.southeastwheelsevents.com/profil
 e/RickEllis
ATTACH;FMTTYPE="image/jpeg":http://storage.ning.com/topology/rest/1.0/
 file/get/967708942?profile=original
ATTENDEE;ROLE=REQ-PARTICIPANT;PARTSTAT=ACCEPTED;RSVP=TRUE;CN="John Bai
 ley":https://www.southeastwheelsevents.com/profile/JohnBailey
ATTENDEE;ROLE=REQ-PARTICIPANT;PARTSTAT=ACCEPTED;RSVP=TRUE;CN="Jeffrey 
 Jackson":https://www.southeastwheelsevents.com/profile/JeffreyJackson
ATTENDEE;ROLE=REQ-PARTICIPANT;PARTSTAT=ACCEPTED;RSVP=TRUE;CN="Rachel F
 lowers":https://www.southeastwheelsevents.com/profile/RachelFlowers
ATTENDEE;ROLE=REQ-PARTICIPANT;PARTSTAT=ACCEPTED;RSVP=TRUE;CN="Rick Ell
 is":https://www.southeastwheelsevents.com/profile/RickEllis
ATTENDEE;ROLE=REQ-PARTICIPANT;PARTSTAT=TENTATIVE;RSVP=TRUE;CN="Robert 
 D. sauer":https://www.southeastwheelsevents.com/profile/RobertDsauer
END:VEVENT
END:VCALENDAR
